BEGIN:VCALENDAR
VERSION:2.0
PRODID:-//wp-events-plugin.com//7.2.2.1//EN
TZID:America/Los_Angeles
X-WR-TIMEZONE:America/Los_Angeles
BEGIN:VEVENT
UID:11017@uucpa.org
DTSTART;TZID=America/Los_Angeles:20220706T120000
DTEND;TZID=America/Los_Angeles:20220706T130000
DTSTAMP:20220608T182637Z
URL:https://www.uucpa.org/events/sacred-text-reading-group-wed-2022-07-06/
SUMMARY:Sacred Text Reading Group (Wed.)
DESCRIPTION:Sacred Text Reading Group (Wed.)  \n\n\nA twice-weekly online s
 acred text reading group. We meet on Saturdays\, 4-5\, and on Wednesdays\,
  12-1. All are wide open and you are welcome!\n\nUsing a spiritual-practic
 e approach\, in each session we will explore a different brief scriptural 
 text in depth. The aims of the sessions are educational (learning somethin
 g about the texts and traditions)\, spiritual/moral (discovering what the 
 texts ask of us)\, and community-building (getting to know each other bett
 er). Our practice usually follows this version of Lectio Divina.\n\nAmy wi
 ll have a version of the text available to share\; “bring” your own if
  you like. All are welcome\, as are your suggestions of future texts. Grou
 p members also take turns facilitating\, if they want to try that role.\n\
 n\n\n\n\n\nOur text for Wednesday\, July 6\, 2022\, is the first stanza of
  Emily Dickinson's poem #303\, "The Soul selects her own Society":\n\nThe 
 Soul selects her own Society –\nThen – shuts the Door –\nOn her divi
 ne Majority\nObtrude no more …\n\n\n\nFor check-in / getting-acquainted 
 time\, and for those who are new and want a brief orientation to the pract
 ice\, the room will be open ten minutes before and ten minutes after the s
 ession.\n\n\nHow to join:\n\n\n\n\n 	Join this class from your Web browser
 : https://zoom.us/j/578882781\n 	Join this class using the Zoom app: Meeti
 ng ID: 578 882 781\n 	Join this class by phone: 669 900 9128 US (San Jose)
 \, Meeting ID: 578 882 781\n 	Join this class by on-tap on mobile phones: 
 +16699009128\,\,578882781# US (San Jose)\n 	Phoning in\, but not in the ba
 y area?  Find your local number: https://zoom.us/u/abL8clvIYT\n\n\n\nAdd
  to: Google Cal\, iCal\, webcal\nSection Navigation\n\n 
CATEGORIES:Adult,Classes,Learning,Small Groups
LOCATION:https://zoom.us/j/578882781
END:VEVENT
BEGIN:VTIMEZONE
TZID:America/Los_Angeles
X-LIC-LOCATION:America/Los_Angeles
BEGIN:DAYLIGHT
DTSTART:20220313T030000
TZOFFSETFROM:-0800
TZOFFSETTO:-0700
TZNAME:PDT
END:DAYLIGHT
END:VTIMEZONE
END:VCALENDAR