BEGIN:VCALENDAR
VERSION:2.0
PRODID:-//wp-events-plugin.com//7.2.2.1//EN
TZID:America/Los_Angeles
X-WR-TIMEZONE:America/Los_Angeles
BEGIN:VEVENT
UID:1316@uucpa.org
DTSTART;TZID=America/Los_Angeles:20170408T100000
DTEND;TZID=America/Los_Angeles:20170408T123000
DTSTAMP:20170401T165910Z
URL:https://www.uucpa.org/events/san-jose-sikh-temple-visit/
SUMMARY:San Jose Sikh Temple Visit
DESCRIPTION:San Jose Sikh Temple Visit  \n\n\n\nTo enrich our faith awarene
 ss\, we are planning a trip to the Sikh temple. The temple called “Gurdw
 ara” is located on 3636 Murillo Ave\, San Jose\, CA 95148.\n\nWe will ge
 t together in the UUCPA parking lot\, carpool and leave at 10 am\, April 8
 th. It will take about 30 minutes to get there. We will spend about 1 hour
  touring the building\, reviewing the tenets of the religion\, and how it 
 originated. After that we will receive “Prasad” (a blessed halva) from
  the main hall of worship and an Indian meal called “langar” which is 
 available 24 hours of the day and to everyone.\n\nWe will have to remove o
 ur shoes to enter the temple\, so you might want to bring some thick socks
  to use.\n\nContact: Kay Brown (kay_b@uucpa.org)\n\n\n\n 
CATEGORIES:Adult,Classes
LOCATION:Gurdwara Sikh Temple
GEO:37.3260442;-121.7648509
X-APPLE-STRUCTURED-LOCATION;VALUE=URI;X-ADDRESS=3636 Murillo Ave\, San Jose
 \, CA\, 95148\, United States;X-APPLE-RADIUS=100;X-TITLE=Gurdwara Sikh Tem
 ple:geo:37.3260442,-121.7648509
END:VEVENT
BEGIN:VTIMEZONE
TZID:America/Los_Angeles
X-LIC-LOCATION:America/Los_Angeles
BEGIN:DAYLIGHT
DTSTART:20170312T030000
TZOFFSETFROM:-0800
TZOFFSETTO:-0700
TZNAME:PDT
END:DAYLIGHT
END:VTIMEZONE
END:VCALENDAR