BEGIN:VCALENDAR
VERSION:2.0
PRODID:-//wp-events-plugin.com//7.2.2.1//EN
TZID:America/Los_Angeles
X-WR-TIMEZONE:America/Los_Angeles
BEGIN:VEVENT
UID:9512@uucpa.org
DTSTART;TZID=America/Los_Angeles:20210421T190000
DTEND;TZID=America/Los_Angeles:20210421T203000
DTSTAMP:20210418T163849Z
URL:https://www.uucpa.org/events/sci-fi-and-fantasy-discussion-group-red-m
 oon/
SUMMARY:Sci-Fi and Fantasy Discussion Group: Red Moon
DESCRIPTION:Sci-Fi and Fantasy Discussion Group: Red Moon  \n\nIn April\, w
 e'll talk about Red Moon\, by Kim Stanley Robinson.\n\n\nRobinson is fasci
 nated with questions of the environment and colonization. This 2018 novel 
 takes these questions to the moon\, now colonized partly by China and part
 ly by other countries of Earth.\n\nAll are welcome!\n&nbsp\;\n\nJoin Zoom 
 Meeting\nhttps://us02web.zoom.us/j/89665982227?pwd=QnhySmVVc0RuMTNKVkpPQ2N
 jYUptdz09\n\nMeeting ID: 896 6598 2227\nPasscode: 910890\nOne tap mobile\n
 +16699009128\,\,89665982227#\,\,\,\,*910890# US (San Jose)\n\nDial by your
  location\n+1 669 900 9128 US (San Jose)\n+1 346 248 7799 US (Houston)\n+1
  253 215 8782 US (Tacoma)\n+1 646 558 8656 US (New York)\n+1 301 715 8592 
 US (Washington DC)\n+1 312 626 6799 US (Chicago)\nMeeting ID: 896 6598 222
 7\nPasscode: 910890\nFind your local number: https://us02web.zoom.us/u/k4m
 aAnSWF\n\n&nbsp\;\n\nThe Sci-Fi and Fantasy Discussion Group was meeting v
 ia Zoom before it was cool! Lovers of science fiction and fantasy\, at UUC
 PA and beyond\, have been getting together online to talk about books\, mo
 vies\, and television episodes\, every other month since early 2019.\n\n&n
 bsp\; 
ATTACH;FMTTYPE=image/jpeg:https://www.uucpa.org/wp-content/uploads/2021/02
 /SciFi-Fantasy-Group-Red-Moon.png
CATEGORIES:Adult,Classes,Learning
END:VEVENT
BEGIN:VTIMEZONE
TZID:America/Los_Angeles
X-LIC-LOCATION:America/Los_Angeles
BEGIN:DAYLIGHT
DTSTART:20210314T030000
TZOFFSETFROM:-0800
TZOFFSETTO:-0700
TZNAME:PDT
END:DAYLIGHT
END:VTIMEZONE
END:VCALENDAR