BEGIN:VCALENDAR
VERSION:2.0
PRODID:-//wp-events-plugin.com//7.2.2.1//EN
TZID:America/Los_Angeles
X-WR-TIMEZONE:America/Los_Angeles
BEGIN:VEVENT
UID:13034@uucpa.org
DTSTART;TZID=America/Los_Angeles:20231115T190000
DTEND;TZID=America/Los_Angeles:20231115T203000
DTSTAMP:20231021T180541Z
URL:https://www.uucpa.org/events/sci-fi-fantasy-discussion-group-2-2023-11
 -15/
SUMMARY:Sci-Fi / Fantasy Discussion Group
DESCRIPTION:Sci-Fi / Fantasy Discussion Group  In November we'll discuss th
 e 2013 movie "Her"\n\nFrom Amazon:\n     "Academy Award® winner for Be
 st Screenplay Directed by Spike Jonze &amp\; starring Joaquin Phoenix come
 s an love story that explores evolving nature &amp\; risks of intimacy in 
 modern world."\n\n\nAt the end of the meeting\, we will choose a movie or 
 video for our February meeting.\n\n\nThe Sci-Fi and Fantasy Discussion Gro
 up was meeting via Zoom before it was cool! Lovers of science fiction and 
 fantasy\, at UUCPA and beyond\, have been getting together online to talk 
 about books\, movies\, and television episodes chosen by the group\, every
  other month since early 2019. Past books include The Broken Earth Trilogy
  (N. K. Jemisin)\, The Moon is a Harsh Mistress (Robert Heinlein)\, Parabl
 e of the Sower (Octavia Butler)\, The Left Hand of Darkness (Ursula K. Le 
 Guin)\, Red Moon (Kim Stanley Robinson)\; past television and movies inclu
 de Arrival\, Blink (Doctor Who)\, Serenity and The Train Job (Firefly)\, 
 and The Day the Earth Stood Still.\n\nThe meeting method: via Zoom\, 7-8:3
 0 p.m.\n\n 	Dates: Third Wednesdays\, except for December and summer\n 	Ti
 me: 7-8:30 pm\n 	Location: Online\n 	Facilitator: Jane Chronis (scifi+owne
 r@uucpa.org)\n 	Registration: Not required\n\n\n 	\n\nJoin the meeting via
  Zoom:\n\n 	This link OR\n 	Meeting ID: 957 4631 3990\n 	Passcode: 688198\
 n 	One tap mobile\n\n 	+16694449171\,\,95746313990#\,\,\,\,*688198# US\n 	
 +16699006833\,\,95746313990#\,\,\,\,*688198# US (San Jose)\n\n\n\nFind oth
 er upcoming dates on the web page. 
ATTACH;FMTTYPE=image/jpeg:https://www.uucpa.org/wp-content/uploads/2023/06
 /Sci-Fi-Fantasy-Group-1.png
CATEGORIES:Adult,Learning,Ongoing Events,Small Groups
END:VEVENT
BEGIN:VTIMEZONE
TZID:America/Los_Angeles
X-LIC-LOCATION:America/Los_Angeles
BEGIN:STANDARD
DTSTART:20231105T010000
TZOFFSETFROM:-0700
TZOFFSETTO:-0800
TZNAME:PST
END:STANDARD
END:VTIMEZONE
END:VCALENDAR