BEGIN:VCALENDAR
VERSION:2.0
PRODID:-//wp-events-plugin.com//7.2.2.1//EN
TZID:America/Los_Angeles
X-WR-TIMEZONE:America/Los_Angeles
BEGIN:VEVENT
UID:10680@uucpa.org
DTSTART;TZID=America/Los_Angeles:20220216T190000
DTEND;TZID=America/Los_Angeles:20220216T203000
DTSTAMP:20220122T161235Z
URL:https://www.uucpa.org/events/sci-fi-fantasy-discussion-group-2022-02-1
 6/
SUMMARY:Sci-Fi / Fantasy Discussion Group
DESCRIPTION:Sci-Fi / Fantasy Discussion Group  The  Sci-Fi and Fantasy Disc
 ussion Group meets every other month to discuss an agreed-upon book or mov
 ie. On Feb. 16 at 7 pm we will be discussing Steven Spielberg's movie\, "C
 lose Encounters of the Third Kind".  To subscribe to the group\, send an 
 email to scifi+subscribe@uucpa.org\n\nThe meeting method: via Zoom\, 7-8:3
 0 p.m. We meet every other month.\n\n 	Dates: Third Wednesdays\, Bi-Monthl
 y\n 	Time: 7-8:30 pm\n 	Location: Online\n 	Facilitator: Jane Chronis (sci
 fi+owner@uucpa.org)\n 	Registration: Not required\n\nJoin the meeting via 
 Zoom:\n\n 	Link: https://zoom.us/j/96609828067?pwd=K0lOa214RmNxenVETTYwS3c
 0M2RGQT09\n 	Meeting ID: 966 0982 8067\n 	Passcode: 249519\n 	One tap mobi
 le\n\n 	+16699006833\,\,96609828067#\,\,\,\,*249519# US (San Jose)\n 	+134
 62487799\,\,96609828067#\,\,\,\,*249519# US (Houston)\n\n\n\nFind other up
 coming dates on the web page. 
ATTACH;FMTTYPE=image/jpeg:https://www.uucpa.org/wp-content/uploads/2021/07
 /Sci-Fi-Fantasy-Group.png
CATEGORIES:Adult,Learning,Ongoing Events,Small Groups
END:VEVENT
BEGIN:VTIMEZONE
TZID:America/Los_Angeles
X-LIC-LOCATION:America/Los_Angeles
BEGIN:STANDARD
DTSTART:20211107T010000
TZOFFSETFROM:-0700
TZOFFSETTO:-0800
TZNAME:PST
END:STANDARD
END:VTIMEZONE
END:VCALENDAR