BEGIN:VCALENDAR
VERSION:2.0
PRODID:-//wp-events-plugin.com//7.2.2.1//EN
TZID:America/Los_Angeles
X-WR-TIMEZONE:America/Los_Angeles
BEGIN:VEVENT
UID:14563@uucpa.org
DTSTART;TZID=America/Los_Angeles:20250416T190000
DTEND;TZID=America/Los_Angeles:20250416T203000
DTSTAMP:20250222T233512Z
URL:https://www.uucpa.org/events/sci-fi-fantasy-discussion-group-3-2025-04
 -16/
SUMMARY:Sci-Fi / Fantasy Discussion Group
DESCRIPTION:Sci-Fi / Fantasy Discussion Group  On April 16\, 2025 we'll dis
 cuss the 1985 movie "Enemy Mine".\n\nFrom Amazon:\nIn the distant future\,
  humans and aliens battle for supremacy of the universe. On one lonely uni
 nhabited planet\, an American and a reptilian Drac find themselves uneasil
 y joining together to survive - and learn.\n\nThe movie is available for r
 ental on Amazon and other places.\n\nAt the end of the meeting\, we will c
 hoose a movie or video for our September meeting.\n\nThe Sci-Fi and Fantas
 y Discussion Group was meeting via Zoom before it was cool! Lovers of scie
 nce fiction and fantasy\, at UUCPA and beyond\, have been getting together
  online to talk about books\, movies\, and television episodes chosen by t
 he group\, every other month since early 2019. Past books include The Brok
 en Earth Trilogy (N. K. Jemisin)\, The Moon is a Harsh Mistress (Robert He
 inlein)\, Parable of the Sower (Octavia Butler)\, The Left Hand of Darknes
 s (Ursula K. Le Guin)\, Red Moon (Kim Stanley Robinson)\; past television 
 and movies include Arrival\, Blink (Doctor Who)\, Serenity and The Train 
 Job (Firefly)\, and The Day the Earth Stood Still.\n\nThe meeting method: 
 via Zoom\, 7-8:30 p.m.\n\n 	Dates: Third Wednesdays\, except for December 
 and summer\n 	Time: 7-8:30 pm\n 	Location: Online\n 	Facilitator: Jane Chr
 onis (scifi+owner@uucpa.org)\n 	Registration: Not required\n\nJoin the mee
 ting via Zoom:\n\n 	This link OR\n 	Meeting ID: 966 0982 8067\n 	Passcode:
  249519\n 	One tap mobile\n\n 	+16699006833\,\,96609828067#\,\,\,\,*249519
 # US (San Jose)\n 	+13462487799\,\,96609828067#\,\,\,\,*249519# US (Housto
 n)\n\n\n\nFind other upcoming dates on the web page. 
ATTACH;FMTTYPE=image/jpeg:https://www.uucpa.org/wp-content/uploads/2021/07
 /Sci-Fi-Fantasy-Group.png
CATEGORIES:Adult,Learning,Ongoing Events,Small Groups
END:VEVENT
BEGIN:VTIMEZONE
TZID:America/Los_Angeles
X-LIC-LOCATION:America/Los_Angeles
BEGIN:DAYLIGHT
DTSTART:20250309T030000
TZOFFSETFROM:-0800
TZOFFSETTO:-0700
TZNAME:PDT
END:DAYLIGHT
END:VTIMEZONE
END:VCALENDAR