BEGIN:VCALENDAR
VERSION:2.0
PRODID:-//wp-events-plugin.com//7.2.2.1//EN
TZID:America/Los_Angeles
X-WR-TIMEZONE:America/Los_Angeles
BEGIN:VEVENT
UID:14564@uucpa.org
DTSTART;TZID=America/Los_Angeles:20250521T190000
DTEND;TZID=America/Los_Angeles:20250521T203000
DTSTAMP:20250329T142107Z
URL:https://www.uucpa.org/events/sci-fi-fantasy-discussion-group-3-2025-05
 -21/
SUMMARY:Sci-Fi / Fantasy Discussion Group
DESCRIPTION:Sci-Fi / Fantasy Discussion Group  The Sci-Fi and Fantasy Discu
 ssion Group was meeting via Zoom before it was cool! Lovers of science fic
 tion and fantasy\, at UUCPA and beyond\, have been getting together online
  to talk about books\, movies\, and television episodes chosen by the grou
 p\, every other month since early 2019. Past books include The Broken Eart
 h Trilogy (N. K. Jemisin)\, The Moon is a Harsh Mistress (Robert Heinlein)
 \, Parable of the Sower (Octavia Butler)\, The Left Hand of Darkness (Ursu
 la K. Le Guin)\, Red Moon (Kim Stanley Robinson)\; past television and mov
 ies include Arrival\, Blink (Doctor Who)\, Serenity and The Train Job (Fi
 refly)\, and The Day the Earth Stood Still.\n\n&nbsp\;\n\nWe'll discuss th
 e novella All Systems Red\, by Martha Wells (The Murderbot Diaries #1)\n\n
 "As a heartless killing machine\, I was a complete failure."\n\nAt the end
  of the meeting\, we will choose a book for our October meeting.\n\n&nbsp\
 ;\n\nThe meeting method: via Zoom\, 7-8:30 p.m.\n\n 	Dates: Third Wednesda
 ys\, except for December and summer\n 	Time: 7-8:30 pm\n 	Location: Online
 \n 	Facilitator: Jane Chronis (scifi+owner@uucpa.org)\n 	Registration: Not
  required\n\nJoin the meeting via Zoom:\n\n 	This link OR\n 	Meeting ID: 9
 66 0982 8067\n 	Passcode: 249519\n 	One tap mobile\n\n 	+16699006833\,\,96
 609828067#\,\,\,\,*249519# US (San Jose)\n 	+13462487799\,\,96609828067#\,
 \,\,\,*249519# US (Houston)\n\n\n\nFind other upcoming dates on the web pa
 ge. 
ATTACH;FMTTYPE=image/jpeg:https://www.uucpa.org/wp-content/uploads/2021/07
 /Sci-Fi-Fantasy-Group.png
CATEGORIES:Adult,Learning,Ongoing Events,Small Groups
END:VEVENT
BEGIN:VTIMEZONE
TZID:America/Los_Angeles
X-LIC-LOCATION:America/Los_Angeles
BEGIN:DAYLIGHT
DTSTART:20250309T030000
TZOFFSETFROM:-0800
TZOFFSETTO:-0700
TZNAME:PDT
END:DAYLIGHT
END:VTIMEZONE
END:VCALENDAR