BEGIN:VCALENDAR
VERSION:2.0
PRODID:-//wp-events-plugin.com//7.2.2.1//EN
TZID:America/Los_Angeles
X-WR-TIMEZONE:America/Los_Angeles
BEGIN:VEVENT
UID:16839@uucpa.org
DTSTART;TZID=America/Los_Angeles:20250917T190000
DTEND;TZID=America/Los_Angeles:20250917T203000
DTSTAMP:20250524T151009Z
URL:https://www.uucpa.org/events/sci-fi-fantasy-discussion-group-4-2025-09
 -17/
SUMMARY:Sci-Fi / Fantasy Discussion Group
DESCRIPTION:Sci-Fi / Fantasy Discussion Group  The Sci-Fi and Fantasy Discu
 ssion Group was meeting via Zoom before it was cool! Lovers of science fic
 tion and fantasy\, at UUCPA and beyond\, have been getting together online
  to talk about books\, movies\, and television episodes chosen by the grou
 p\, every other month since early 2019. Past books include The Broken Eart
 h Trilogy (N. K. Jemisin)\, The Moon is a Harsh Mistress (Robert Heinlein)
 \, Parable of the Sower (Octavia Butler)\, The Left Hand of Darkness (Ursu
 la K. Le Guin)\, Red Moon (Kim Stanley Robinson)\; past television and mov
 ies include Arrival\, Blink (Doctor Who)\, Serenity and The Train Job (Fi
 refly)\, and The Day the Earth Stood Still.\nSeptember 17 2025\, 7-8:30 pm
 \nWe'll discuss the 1997 movie “The Fifth Element”.\nFrom Wikipedia:\n
 “… the film's central plot involves the survival of planet Earth\, whi
 ch becomes the responsibility of Korben Dallas (Willis)\, a taxi driver an
 d former special forces major\, after a young woman (Jovovich) falls into 
 his cab. To accomplish this\, Dallas joins forces with her to recover four
  mystical stones essential for the defence of Earth against the impending 
 attack of a malevolent cosmic entity.”\n\nThe movie is available for ren
 tal on Amazon and other places.\n\nAt the end of the meeting\, we will cho
 ose a movie or video for our November meeting.\n\nThe meeting method: via 
 Zoom\, 7-8:30 p.m.\n\n 	Dates: Third Wednesdays\, except for December and 
 summer\n 	Time: 7-8:30 pm\n 	Location: Online\n 	Facilitator: Jane Chronis
  &amp\; Bill Hackenberger (scifi+owner@uucpa.org)\n 	Registration: Not req
 uired\n\nJoin the meeting via Zoom: Link\n\n 	Meeting ID: 924 4906 7832\n 
 	Passcode: 825590\n\nDial by your location •\n\n 	+1 669 444 9171 US\n 	
 +1 669 900 6833 US (San Jose)\n\nFind other upcoming dates on the web page
 . 
ATTACH;FMTTYPE=image/jpeg:https://www.uucpa.org/wp-content/uploads/2021/07
 /Sci-Fi-Fantasy-Group.png
CATEGORIES:Adult,Learning,Ongoing Events,Small Groups
END:VEVENT
BEGIN:VTIMEZONE
TZID:America/Los_Angeles
X-LIC-LOCATION:America/Los_Angeles
BEGIN:DAYLIGHT
DTSTART:20250309T030000
TZOFFSETFROM:-0800
TZOFFSETTO:-0700
TZNAME:PDT
END:DAYLIGHT
END:VTIMEZONE
END:VCALENDAR