BEGIN:VCALENDAR
VERSION:2.0
PRODID:-//wp-events-plugin.com//7.2.2.1//EN
TZID:America/Los_Angeles
X-WR-TIMEZONE:America/Los_Angeles
BEGIN:VEVENT
UID:16841@uucpa.org
DTSTART;TZID=America/Los_Angeles:20251119T190000
DTEND;TZID=America/Los_Angeles:20251119T203000
DTSTAMP:20251019T174217Z
URL:https://www.uucpa.org/events/sci-fi-fantasy-discussion-group-4-2025-11
 -19/
SUMMARY:Sci-Fi / Fantasy Discussion Group
DESCRIPTION:Sci-Fi / Fantasy Discussion Group  At the November 19\, 2025 me
 eting\, we'll discuss the 2023 animated movie “Mars Express”.\nFrom Wi
 kipedia:\n“… In 2200\, Aline Ruby\, a private detective\, and Carlos R
 ivera\, an android replica of her partner who died five years earlier\, ar
 e sent to Earth to capture Roberta Williams\, a robot-hacking criminal. Al
 ine and Carlos venture to the depths of Noctis\, the main terrestrial esta
 blishment of Mars created thanks to the progress of robotics\, and where h
 umans and various forms of androids seem to coexist in harmony. The city t
 urns out to hide secrets such as trafficking and clandestine computer labs
 . Meanwhile\, activists try to free the robots from the security constrain
 ts that bind them to humans.”\nThe movie is available on DVD at some lib
 raries or for rental on Amazon and other places.\nAt the end of the meetin
 g\, we will choose a movie for our January 21st meeting.\nThe Sci-Fi and F
 antasy Discussion Group was meeting via Zoom before it was cool! Lovers of
  science fiction and fantasy\, at UUCPA and beyond\, have been getting tog
 ether online to talk about books\, movies\, and television episodes chosen
  by the group\, every other month since early 2019. Past books include The
  Broken Earth Trilogy (N. K. Jemisin)\, The Moon is a Harsh Mistress (Robe
 rt Heinlein)\, Parable of the Sower (Octavia Butler)\, The Left Hand of Da
 rkness (Ursula K. Le Guin)\, Red Moon (Kim Stanley Robinson)\; past televi
 sion and movies include Arrival\, Blink (Doctor Who)\, Serenity and The T
 rain Job (Firefly)\, and The Day the Earth Stood Still.\n\nThe meeting met
 hod: via Zoom\, 7-8:30 p.m.\n\n 	Dates: Third Wednesdays\, except during s
 ummer months (June-August)\n 	Time: 7-8:30 pm\n 	Location: Online\n 	Facil
 itator: Bill Hackenberger (scifi+owner@uucpa.org)\n 	Registration: Not re
 quired\n\nJoin the meeting via Zoom: Link\n\n 	Meeting ID: 924 4906 7832\n
  	Passcode: 825590\n\nDial by your location •\n\n 	+1 669 444 9171 US\n 
 	+1 669 900 6833 US (San Jose)\n\nFind other upcoming dates on the web pag
 e. 
ATTACH;FMTTYPE=image/jpeg:https://www.uucpa.org/wp-content/uploads/2021/07
 /Sci-Fi-Fantasy-Group.png
CATEGORIES:Adult,Learning,Ongoing Events,Small Groups
END:VEVENT
BEGIN:VTIMEZONE
TZID:America/Los_Angeles
X-LIC-LOCATION:America/Los_Angeles
BEGIN:STANDARD
DTSTART:20251102T010000
TZOFFSETFROM:-0700
TZOFFSETTO:-0800
TZNAME:PST
END:STANDARD
END:VTIMEZONE
END:VCALENDAR