BEGIN:VCALENDAR
VERSION:2.0
PRODID:-//wp-events-plugin.com//7.2.2.1//EN
TZID:America/Los_Angeles
X-WR-TIMEZONE:America/Los_Angeles
BEGIN:VEVENT
UID:7038@uucpa.org
DTSTART;TZID=America/Los_Angeles:20191016T190000
DTEND;TZID=America/Los_Angeles:20191016T210000
DTSTAMP:20190926T140714Z
URL:https://www.uucpa.org/events/sci-fi-fantasy-discussion-group-broken-ea
 rth-trilogy/
SUMMARY:Sci Fi / Fantasy Discussion Group - Broken Earth Trilogy
DESCRIPTION:Sci Fi / Fantasy Discussion Group - Broken Earth Trilogy  In Ju
 ne\, some of us discussed the first book in N. K. Jemisin’s Broken Earth
  Trilogy. By popular demand\, the next time we discuss books\, we're going
  to talk about the entire trilogy\, and by October\, we’ll all have time
  to read all three books. (We alternate between books and TV/film\; our Au
 gust topic is the Doctor Who episode "Blink".) The books of the trilogy ar
 e:\n\n 	The Fifth Season\n 	The Obelisk Gate\n 	The Stone Sky\n\nWith this
  "triumphant achievement in fantasy literature" (Andrew Liptak\, www.thev
 erge.com)\, Jemisin won the Hugo Award for Best Novel an unprecedented thr
 ee years in a row. The physical\, social\, and political world she creates
  is breathtakingly complex\, real\, and\, like ours\, "literally and figur
 atively broken." With characters as flawed and complex as the world they i
 nhabit\, Jemisin defies fantasy cliches and challenges us\, the readers\, 
 to see the troubles facing us in nuanced and compassionate ways.\n\nWe mee
 t via Zoom\; all times Pacific. All are welcome!\n\n 	Meeting ID: 250 109 
 6676\n 	Join Zoom Meeting: https://zoom.us/j/2501096676\n 	One tap mobile:
  +17207072699\,\,2501096676# US\n 	Dial by your location: +1 720 707 2699 
 US\n\nFind your local number: https://zoom.us/u/abL8clvIYT\n\nFind out mo
 re about the Sci Fi / Fantasy Discussion Group here. 
ATTACH;FMTTYPE=image/jpeg:https://www.uucpa.org/wp-content/uploads/2019/07
 /SciFi-Fantasy-Group-1.png
CATEGORIES:Classes
END:VEVENT
BEGIN:VTIMEZONE
TZID:America/Los_Angeles
X-LIC-LOCATION:America/Los_Angeles
BEGIN:DAYLIGHT
DTSTART:20190310T030000
TZOFFSETFROM:-0800
TZOFFSETTO:-0700
TZNAME:PDT
END:DAYLIGHT
END:VTIMEZONE
END:VCALENDAR