BEGIN:VCALENDAR
VERSION:2.0
PRODID:-//wp-events-plugin.com//7.2.2.1//EN
TZID:America/Los_Angeles
X-WR-TIMEZONE:America/Los_Angeles
BEGIN:VEVENT
UID:11446@uucpa.org
DTSTART;TZID=America/Los_Angeles:20220814T120000
DTEND;TZID=America/Los_Angeles:20220814T130000
DTSTAMP:20220813T150346Z
URL:https://www.uucpa.org/events/second-sunday-lunch/
SUMMARY:Second Sunday Lunch
DESCRIPTION:Second Sunday Lunch  Second Sunday Lunch is back! Please come e
 at. Here's our menu - served at noon.\n\nGrilled Turkey Burgers and Grille
 d Veggie Patties  (and buns)\n\nGrilled Zucchini and Cherry Tomatoes\n\nP
 otato Salad\n\nTossed Salad Bar\n\nBrownies and Gluten-Free Brownies\n\nTh
 anks\, Edie Keating\n\n\n\n\n\n\n\n\n\n\n\nInterested in helping make Seco
 nd Sunday Lunch happen? email food@uucpa.org - we will find your best way 
 to help.\n\n\n\n\n\n\n\n\n\n\n 
ATTACH;FMTTYPE=image/jpeg:https://www.uucpa.org/wp-content/uploads/2022/08
 /Second-Sunday-Lunch-1.png
CATEGORIES:Food
LOCATION:UUCPA
GEO:37.419574;-122.11249800000002
X-APPLE-STRUCTURED-LOCATION;VALUE=URI;X-ADDRESS=505 E Charleston Rd\, Palo 
 Alto\, CA\, 94306\, United States;X-APPLE-RADIUS=100;X-TITLE=UUCPA:geo:37.
 419574,-122.11249800000002
END:VEVENT
BEGIN:VTIMEZONE
TZID:America/Los_Angeles
X-LIC-LOCATION:America/Los_Angeles
BEGIN:DAYLIGHT
DTSTART:20220313T030000
TZOFFSETFROM:-0800
TZOFFSETTO:-0700
TZNAME:PDT
END:DAYLIGHT
END:VTIMEZONE
END:VCALENDAR