BEGIN:VCALENDAR
VERSION:2.0
PRODID:-//wp-events-plugin.com//7.2.2.1//EN
TZID:America/Los_Angeles
X-WR-TIMEZONE:America/Los_Angeles
BEGIN:VEVENT
UID:2471@uucpa.org
DTSTART;TZID=America/Los_Angeles:20171118T183000
DTEND;TZID=America/Los_Angeles:20171118T210000
DTSTAMP:20171112T233349Z
URL:https://www.uucpa.org/events/shyg-2-2017-11-12/
SUMMARY:SHYG - Baking
DESCRIPTION:SHYG - Baking  \nThere will NOT be SHGY on 11/12 or 11/19.
  But we will gather on Saturday ...\n\n\nLast week\, our youth decided 
 to do a bake sale to help raise money for the survivors of the Northern CA
  fires\, with money being contributed through the Unitarian Universalist D
 isaster Fund. Advisor Robert Neff has graciously offered his home as a cen
 tral place for us to gather and prepare the baked goods\, which will be so
 ld after both services next Sunday. Please join me and Robert from 6.00 -
  9.30p on Saturday (11/18). Robert’s address is 3150 Emerson Road in P
 alo Alto.\n\n\n\nYouth are encouraged to bring their own recipes and ingre
 dients\, though this is not required.\n\n\n\nTo help us best plan\, please
  take a quick moment to RSVP via survey before Wednesday: https://docs.g
 oogle.com/forms/d/e/1FAIpQLSfTVk2WULMd3GYN4VP-FPCIIyzKHXO8Ty7Ecme5J1VivZiH
 iw/viewform?usp=sf_link\n\nWe will cancel the baking and reschedule the ba
 ke sale if we have less than 3 RSVPs by Wed evening. 
CATEGORIES:Children &amp; Youth,Youth
LOCATION:Neffs
GEO:37.422914;-122.13004419999999
X-APPLE-STRUCTURED-LOCATION;VALUE=URI;X-ADDRESS=3150 Emerson Road\, Palo Al
 to\, CA\, United States;X-APPLE-RADIUS=100;X-TITLE=Neffs:geo:37.422914,-12
 2.13004419999999
END:VEVENT
BEGIN:VTIMEZONE
TZID:America/Los_Angeles
X-LIC-LOCATION:America/Los_Angeles
BEGIN:STANDARD
DTSTART:20171105T010000
TZOFFSETFROM:-0700
TZOFFSETTO:-0800
TZNAME:PST
END:STANDARD
END:VTIMEZONE
END:VCALENDAR