BEGIN:VCALENDAR
VERSION:2.0
PRODID:-//wp-events-plugin.com//7.2.2.1//EN
TZID:America/Los_Angeles
X-WR-TIMEZONE:America/Los_Angeles
BEGIN:VEVENT
UID:2494@uucpa.org
DTSTART;TZID=America/Los_Angeles:20180421T100000
DTEND;TZID=America/Los_Angeles:20180421T140000
DTSTAMP:20171008T182259Z
URL:https://www.uucpa.org/events/shyg-2-2018-04-22/
SUMMARY:SHYG - Service Project
DESCRIPTION:SHYG - Service Project  Senior High Youth Group (grades 9-12) o
 r SHYG — Teenagers in high school are welcome to join either SHYG group 
 for fun and community-building\, learning\, worship\, leadership developme
 nt\, and social action. 
CATEGORIES:Children &amp; Youth,Youth
LOCATION:Fireside Room and Zoom
GEO:37.419574;-122.112498
X-APPLE-STRUCTURED-LOCATION;VALUE=URI;X-ADDRESS=505 E Charleston Rd\, Palo 
 Alto\, CA\, 94306\, United States;X-APPLE-RADIUS=100;X-TITLE=Fireside Room
  and Zoom:geo:37.419574,-122.112498
END:VEVENT
BEGIN:VTIMEZONE
TZID:America/Los_Angeles
X-LIC-LOCATION:America/Los_Angeles
BEGIN:DAYLIGHT
DTSTART:20180311T030000
TZOFFSETFROM:-0800
TZOFFSETTO:-0700
TZNAME:PDT
END:DAYLIGHT
END:VTIMEZONE
END:VCALENDAR