BEGIN:VCALENDAR
VERSION:2.0
PRODID:-//wp-events-plugin.com//7.2.2.1//EN
TZID:America/Los_Angeles
X-WR-TIMEZONE:America/Los_Angeles
BEGIN:VEVENT
UID:14270@uucpa.org
DTSTART;TZID=America/Los_Angeles:20231029T150000
DTEND;TZID=America/Los_Angeles:20231029T170000
DTSTAMP:20231021T181254Z
URL:https://www.uucpa.org/events/south-bay-sanctuary-covenant-benefit/
SUMMARY:South Bay Sanctuary Covenant Benefit
DESCRIPTION:South Bay Sanctuary Covenant Benefit  Celebrate South Bay Sanct
 uary Covenant on October 29!\n\n\n\nOur October Justice Partner\, South B
 ay Sanctuary Covenant (SBSC)\, will be hosting a benefit next week at UUC
 PA in support of their solidarity work in El Salvador.  The event will ta
 ke place on Sunday\, Oct. 29 from 3-5 pm in the Fireside Room.  This yea
 r marks 40 years since the founding of SBSC!  Your support of SBSC as a J
 ustice Partner helps to continue SBSC's steady long-term commitment to in
 creasing self-sufficiency in marginalized rural communities regarding nut
 rition\, education\, wholesome after-school activities\, prevention of do
 mestic violence\, and other areas of need.  In addition to donating to ou
 r October Justice Partner\, please consider attending the SBSC event on Oc
 tober 29 to show your support and to learn more about the work this grass-
 roots organization does in El Salvador.\n\n 
ATTACH;FMTTYPE=image/jpeg:https://www.uucpa.org/wp-content/uploads/2023/10
 /Fall-event.jpeg.jpg
CATEGORIES:Action Council,Justice,Non-UUCPA
LOCATION:Fireside Room
GEO:37.419574;-122.11249800000002
X-APPLE-STRUCTURED-LOCATION;VALUE=URI;X-ADDRESS=505 E Charleston Road\, Pal
 o Alto\, CA\, 94306\, United States;X-APPLE-RADIUS=100;X-TITLE=Fireside Ro
 om:geo:37.419574,-122.11249800000002
END:VEVENT
BEGIN:VTIMEZONE
TZID:America/Los_Angeles
X-LIC-LOCATION:America/Los_Angeles
BEGIN:DAYLIGHT
DTSTART:20230312T030000
TZOFFSETFROM:-0800
TZOFFSETTO:-0700
TZNAME:PDT
END:DAYLIGHT
END:VTIMEZONE
END:VCALENDAR