BEGIN:VCALENDAR
VERSION:2.0
PRODID:-//wp-events-plugin.com//7.2.2.1//EN
TZID:America/Los_Angeles
X-WR-TIMEZONE:America/Los_Angeles
BEGIN:VEVENT
UID:14573@uucpa.org
DTSTART;TZID=America/Los_Angeles:20240527T100000
DTEND;TZID=America/Los_Angeles:20240527T120000
DTSTAMP:20240525T151921Z
URL:https://www.uucpa.org/events/special-campus-work-day/
SUMMARY:Special Campus Work Day
DESCRIPTION:Special Campus Work Day  Looking for something special for the 
 long weekend? UUCPA B&amp\;G and Gardening teams have special one-time wor
 k for the church:\n\nHelp the Gardening team by Moving Mulch - We have pil
 es that need to be distributed along the creekside garden. Let Nancy Neff
  know if you can help out on Monday May 27 at 10:00 (usual weekly gardeni
 ng time.)\n\nInstall 30 LED bulbs to help reduce UUCPA energy use\, and up
 grade our lighting. Either: Saturday Morning\, Sunday after church\, or Mo
 nday morning. Let Robert Neff know if you are interested and which day is
  best for you. We bypass old ballasts\, swap out fluorescent bulbs\, and c
 lean off the diffusers. Basic electrical experience welcome but not requir
 ed\, or come learn what nuts have to do with wiring.\n\nWe will upgrade th
 e bulbs in rooms 1\, 3 (Thacher)\, and the Library\, (or perhaps room A).\
 n\nAlso\, the regular UUCPA workday is coming up Saturday\, June 1\, 9 am 
 - noon.\n\nContact:        Buildings and Grounds Committee (buildings-
 and-grounds@uucpa.org)\n\nConsider making things even better by joining ot
 hers at the monthly workday right here at UUCPA. There will be plenty of f
 ine company. Come for some or all of the time. Projects might include pain
 ting some trim and kitchen cabinets\, pruning shrubs\, organizing closets\
 , plus some jobs you may have in mind. 
ATTACH;FMTTYPE=image/jpeg:https://www.uucpa.org/wp-content/uploads/2024/05
 /Special-Campus-Work-Day-May-27-1.png
CATEGORIES:Small Groups
END:VEVENT
BEGIN:VTIMEZONE
TZID:America/Los_Angeles
X-LIC-LOCATION:America/Los_Angeles
BEGIN:DAYLIGHT
DTSTART:20240310T030000
TZOFFSETFROM:-0800
TZOFFSETTO:-0700
TZNAME:PDT
END:DAYLIGHT
END:VTIMEZONE
END:VCALENDAR