BEGIN:VCALENDAR
VERSION:2.0
PRODID:-//wp-events-plugin.com//7.2.2.1//EN
TZID:America/Los_Angeles
X-WR-TIMEZONE:America/Los_Angeles
BEGIN:VEVENT
UID:902@uucpa.org
DTSTART;TZID=America/Los_Angeles:20170305T123000
DTEND;TZID=America/Los_Angeles:20170305T140000
DTSTAMP:20170102T031332Z
URL:https://www.uucpa.org/events/spiders-insects-and-the-interdependent-we
 b-a-talk-with-photos/
SUMMARY:Spiders\, Insects\, and the Interdependent Web: A Talk with Photos
DESCRIPTION:Spiders\, Insects\, and the Interdependent Web: A Talk with Pho
 tos  \n\n\n\n\nThis ARE session is about how spiders\, insects\, and their
  kin fit into the interdependent web of all existence. We seldom appreciat
 e how vital they are for the normal functioning of the earth’s ecology. 
 Because they look very different from mammals and birds\, and because\, in
  addition\, they’re often too small to see clearly\, we tend to think of
  them as alien and unattractive.\n\nJack will present a broad perspective 
 on the huge ecological importance of these organisms. Through photography\
 , he will attempt to make the unseen seen\, the alien familiar\, and the u
 nattractive fascinating.\n\nPresenter: Jack Owicki (jack_o@uucpa.org)\n\n\
 n\n\n 
CATEGORIES:Adult,Classes
LOCATION:Fireside Room
GEO:37.419574;-122.11249800000002
X-APPLE-STRUCTURED-LOCATION;VALUE=URI;X-ADDRESS=505 E Charleston Road\, Pal
 o Alto\, CA\, 94306\, United States;X-APPLE-RADIUS=100;X-TITLE=Fireside Ro
 om:geo:37.419574,-122.11249800000002
END:VEVENT
BEGIN:VTIMEZONE
TZID:America/Los_Angeles
X-LIC-LOCATION:America/Los_Angeles
BEGIN:STANDARD
DTSTART:20161106T010000
TZOFFSETFROM:-0700
TZOFFSETTO:-0800
TZNAME:PST
END:STANDARD
END:VTIMEZONE
END:VCALENDAR