BEGIN:VCALENDAR
VERSION:2.0
PRODID:-//wp-events-plugin.com//7.2.2.1//EN
TZID:America/Los_Angeles
X-WR-TIMEZONE:America/Los_Angeles
BEGIN:VEVENT
UID:13923@uucpa.org
DTSTART;TZID=America/Los_Angeles:20240317T113000
DTEND;TZID=America/Los_Angeles:20240317T123000
DTSTAMP:20240316T132644Z
URL:https://www.uucpa.org/events/spiritual-adventures-in-parenting-2024-03
 -17/
SUMMARY:Spiritual Adventures In Parenting
DESCRIPTION:Spiritual Adventures In Parenting  If you are a parent to a chi
 ld between the ages of birth and tween\, we invite you to join UUCPA’s m
 onthly parent group\, Spiritual Adventures In Parenting!\n\nLed by fellow 
 UUCPA parent Matt Rosin\, Spiritual Adventures In Parenting meets every th
 ird Sunday\, beginning on September 17\, from 11:30a.m.–12:30p.m. (aft
 er the church service). Childcare will be provided. Families can choose to
  have lunch together afterward\, if they wish.\n\nAmong the many religious
  sources for contemporary Unitarian Universalism\, our faith looks to “d
 irect experience of that transcending mystery and wonder\, affirmed in all
  cultures\, which moves us to a renewal of the spirit and an openness to t
 he forces which create and uphold life”—and parenting is one powerful 
 source of such experience and spiritual deepening.\n\nSpiritual Adventures
  In Parenting will be a forum wherein parents can\, together:\n\n 	Explore
  the spiritual dimensions and meaning of our parenting and\n 	Cultivate d
 eep connections with one another.\n\nEach monthly session will draw on a s
 hort essay or two (or three) from the anthology\, Chaos\, Wonder\, and
  the Spiritual Adventure of Parenting and other sources as spurs to co
 nversation and spiritual reflection.\n\nTo find out more\, email Matt Rosi
 n at spiritualparenting@uucpa.org.\n\nMatt Rosin is a stay-at-home dad to
  two kids at UUCPA and has been involved in the church in numerous ways\, 
 including teaching children’s religious education and Our Whole Lives co
 mprehensive sexuality education classes\, co-leading the By Your Side Sing
 ers pastoral care choir\, and serving on the Mission Task Force that craft
 ed UUCPA’s new Mission Statement. He holds a Ph.D. in Education from Sta
 nford University and writes reflective essays on fatherhood for his newsle
 tter\, Fatherhood Is Learning. 
ATTACH;FMTTYPE=image/jpeg:https://www.uucpa.org/wp-content/uploads/2023/08
 /Spiritual-Adventures-In-Parenting-3.png
CATEGORIES:Adult,Learning,Ongoing Events,Small Groups
END:VEVENT
BEGIN:VTIMEZONE
TZID:America/Los_Angeles
X-LIC-LOCATION:America/Los_Angeles
BEGIN:DAYLIGHT
DTSTART:20240310T030000
TZOFFSETFROM:-0800
TZOFFSETTO:-0700
TZNAME:PDT
END:DAYLIGHT
END:VTIMEZONE
END:VCALENDAR