BEGIN:VCALENDAR
VERSION:2.0
PRODID:-//wp-events-plugin.com//7.2.2.1//EN
TZID:America/Los_Angeles
X-WR-TIMEZONE:America/Los_Angeles
BEGIN:VEVENT
UID:7852@uucpa.org
DTSTART;TZID=America/Los_Angeles:20200308T015900
DTEND;TZID=America/Los_Angeles:20200308T015900
DTSTAMP:20200306T211818Z
URL:https://www.uucpa.org/events/spring-ahead-daylight-savings-time-begins
 -today/
SUMMARY:Spring Ahead - Daylight Savings Time Begins Today!
DESCRIPTION:Spring Ahead - Daylight Savings Time Begins Today!  Remember to
  set your clocks forward on Saturday night!\n\n(Note\, we know that it sho
 uld be 2:00 am\, but the calendar skips ahead to 3:00 am whenever we set i
 t to 2:00 am.  So that's why it is set to 1:59 am.) 
CATEGORIES:Special Events
END:VEVENT
BEGIN:VTIMEZONE
TZID:America/Los_Angeles
X-LIC-LOCATION:America/Los_Angeles
BEGIN:STANDARD
DTSTART:20191103T010000
TZOFFSETFROM:-0700
TZOFFSETTO:-0800
TZNAME:PST
END:STANDARD
END:VTIMEZONE
END:VCALENDAR