BEGIN:VCALENDAR
VERSION:2.0
PRODID:-//wp-events-plugin.com//7.2.2.1//EN
TZID:America/Los_Angeles
X-WR-TIMEZONE:America/Los_Angeles
BEGIN:VEVENT
UID:12567@uucpa.org
DTSTART;TZID=America/Los_Angeles:20230618T150000
DTEND;TZID=America/Los_Angeles:20230618T163000
DTSTAMP:20230616T125831Z
URL:https://www.uucpa.org/events/spring-concert-by-the-uucpa-choir/
SUMMARY:UUCPA Adult Choir presents “Revive”
DESCRIPTION:UUCPA Adult Choir presents “Revive”  What: UUCPA Adult Choi
 r presents “Revive”\nWhen: Sunday\, June 18 at 3 pm\nWhere: UUCPA Main
  Hall and via Zoom\nSuggested Donation: $20 advance\; $25 at the door (No 
 one will be turned away for lack of ability to donate). All proceeds will 
 be joyfully donated to UUCPA.  Tickets are available for purchase in adva
 nce and at the door.  Advance purchase is available in the following ways
 :\n\n 	Online: https://secure.givelively.org/event/uucpa/revive-summer-con
 cert-by-the-uucpa-choir\n 	In-Person: Payments accepted include: cash\; ch
 eck (made out to UUCPA with “Revive concert” in the memo line)\;\n\n 	
 From any choir member at any time between now and the concert\n 	At the ch
 oir table on the patio on Sundays\, June 11 and 18\n\n\n\nThe UUCPA Adult 
 Choir is pleased to announce its upcoming concert\, “Revive” on Sunday
 \, June 18 at 3 pm in the Main Hall. This concert is a celebration of hope
 \, resiliency\, and renewal as we collectively emerge from the pandemic. T
 he choral selections will honor the difficulties we faced\, but also give 
 thanks for the gifts we took from that time. Narrations by Richard Heydt w
 ill beautifully help to tell the story.\n\n\nOne major renewal that we are
  also celebrating at this concert is the beautiful restoration of our priz
 ed Steinway Model C piano! Piano music from Martin Manley\, Larry Chinn\, 
 our own Veronika Agranov-Dafoe\, and other favorite guest musicians\, will
  be sprinkled throughout the program\, highlighting that - with a little l
 ove and care - anything can be made like new again.\n\nThe concert will al
 so be live-streamed over Zoom\, for those who wish to enjoy it at home\, a
 nd for those friends and family who live elsewhere but would like to “at
 tend.” We strongly encourage Zoom attendees to make the same suggested d
 onation(s) that in-person attendees will make (see below).\n\n 
ATTACH;FMTTYPE=image/jpeg:https://www.uucpa.org/wp-content/uploads/2023/05
 /UUCPA-REVIVE-CHOIR-CONCERT-2023.png
CATEGORIES:Choir,Concert,Music,Special Events
LOCATION:Main Hall
X-APPLE-STRUCTURED-LOCATION;VALUE=URI;X-ADDRESS=505 E Charleston Rd\, Palo 
 Alto\, CA\, 94306\, United States;X-APPLE-RADIUS=100;X-TITLE=Main Hall:geo
 :0,0
END:VEVENT
BEGIN:VTIMEZONE
TZID:America/Los_Angeles
X-LIC-LOCATION:America/Los_Angeles
BEGIN:DAYLIGHT
DTSTART:20230312T030000
TZOFFSETFROM:-0800
TZOFFSETTO:-0700
TZNAME:PDT
END:DAYLIGHT
END:VTIMEZONE
END:VCALENDAR