BEGIN:VCALENDAR
VERSION:2.0
PRODID:-//wp-events-plugin.com//7.2.2.1//EN
TZID:America/Los_Angeles
X-WR-TIMEZONE:America/Los_Angeles
BEGIN:VEVENT
UID:16848@uucpa.org
DTSTART;TZID=America/Los_Angeles:20250621T180000
DTEND;TZID=America/Los_Angeles:20250621T200000
DTSTAMP:20250621T175821Z
URL:https://www.uucpa.org/events/summer-solstice-2/
SUMMARY:Summer Solstice
DESCRIPTION:Summer Solstice  \n\nOn Saturday June 21\, 2025 we will celebra
 te the longest day of the year with a Summer Solstice Celebration. Afterw
 ards we will share food and conversation in a potluck. Children and adult
 s are welcome!\n\n \n\nCeremony: Starting at 6 pm we will decorate our a
 ltar with the elemental signs of summer and call the spirits of the direct
 ions to be with us\, as we gather energy  from the well of Joy to share i
 t out to the world at this special celestial moment. If you would like\, 
 please bring a summer flower\, fruit or sprig of greenery to adorn our alt
 ar.\n\n \n\nPotluck: UUCPA will provide a main course of egg salad and pul
 led chicken. If you can\, please bring an entree\, side or dessert for 6-8
  people. (An index card with ingredients is helpful.) You can sign up her
 e to tell us what food you are bringing or if you can help with clean up 
 - signup is helpful but optional - we encourage you to come regardless!\n\
 n \n\nBoard Games: Following the Solstice Celebration we will have s’mor
 es and the monthly UUCPA Games Night\, if you want to make it a whole eve
 ning of connection.\n\n \n\nWe hope you’ll come celebrate the magnifice
 nt surging energy of the Summer  Solstice with us!\n\n \n\n☀️Rebecca
  Shapley\, ☀️Edie Keating\,☀️ Maricia Scott and ☀️Laura Corbet
 t ☀️\n\n 
ATTACH;FMTTYPE=image/jpeg:https://www.uucpa.org/wp-content/uploads/2024/06
 /Summer-Solstice-Celebration.png
CATEGORIES:Special Events,Worship Services
LOCATION:UUCPA
GEO:37.419574;-122.11249800000002
X-APPLE-STRUCTURED-LOCATION;VALUE=URI;X-ADDRESS=505 E Charleston Rd\, Palo 
 Alto\, CA\, 94306\, United States;X-APPLE-RADIUS=100;X-TITLE=UUCPA:geo:37.
 419574,-122.11249800000002
END:VEVENT
BEGIN:VTIMEZONE
TZID:America/Los_Angeles
X-LIC-LOCATION:America/Los_Angeles
BEGIN:DAYLIGHT
DTSTART:20250309T030000
TZOFFSETFROM:-0800
TZOFFSETTO:-0700
TZNAME:PDT
END:DAYLIGHT
END:VTIMEZONE
END:VCALENDAR