BEGIN:VCALENDAR
VERSION:2.0
PRODID:-//wp-events-plugin.com//7.2.2.1//EN
TZID:America/Los_Angeles
X-WR-TIMEZONE:America/Los_Angeles
BEGIN:VEVENT
UID:4733@uucpa.org
DTSTART;TZID=America/Los_Angeles:20190421T093000
DTEND;TZID=America/Los_Angeles:20190421T103000
DTSTAMP:20180801T174600Z
URL:https://www.uucpa.org/events/sunday-school-for-children-and-youth-age-
 3-4-and-grades-6-8-2019-04-21/
SUMMARY:No Sunday School - Intergenerational Service: Easter
DESCRIPTION:No Sunday School - Intergenerational Service: Easter  No Sunday
  School this week due to the Intergenerational Easter Service.\n\nSunday P
 rograms for Families\n\nBecause we believe in learning by doing\, an most 
 important part of our religious education is participation\, with all ages
 \, in the first part of regular worship services. Then during Sunday schoo
 l\, young people learn and play with people their own age. Feel free to as
 k Sunday school teachers what they did this week\, and if you would like t
 o review any of the curriculum materials we are using\, please call Dan Ha
 rper.\n\n9:30 Sunday morning\, late August through early March\n\n 	Child
  care (for infants\, toddlers\, and young children) — Loving and safe ca
 re with our professional child care providers. Children who are over 3 and
  toilet-trained may go to Red class (if your 3-year-old is not yet toilet-
 trained\, they may be in the class as long as you are on call via cell pho
 ne if toileting is necessary). To meet our child care providers\, click h
 ere.\n\n 	Red group (3 and 4 year olds)\, 2018-2019 — We Are Many\, We 
 Are One is a curriculum to introduce young children to age-appropriate di
 versity concepts in a supportive setting.\n 	Elementary School (gr. K-5)\,
  participate in the Spring Project during this period.\n 	For middle schoo
 l (gr. 6-8) in 2018-2019\, there is a choice of two different classes:\n\n
  	Purple group: Ecojustice (grade 6-8) — This is a project-based program
  that includes projects relating to environmental justice and nature study
 . Projects may include urban/suburban gardening\, creating habitat for non
 -human organisms\, learning how to cook outdoors\, and studying environmen
 tal justice heroes like Rachel Carson and Cesar Chavez. There will be diff
 erent projects each year\, and this class may be repeated.\n 	Purple group
 : Neighboring Faith Communities (mostly grades 7-8) — This middle scho
 ol group will visit other places of worship\, typically beginning with ano
 ther UU congregation\, moving through Jewish and Christian groups\, and en
 ding up with non-Western religions. Participants go on 5-6 field trips dur
 ing the year\, and sometimes have guest speakers from other faith traditio
 ns. There will be different field trips each year\, and this class may be 
 repeated.\n\n\n\n\n 
LOCATION:UUCPA
GEO:37.419574;-122.11249800000002
X-APPLE-STRUCTURED-LOCATION;VALUE=URI;X-ADDRESS=505 E Charleston Rd\, Palo 
 Alto\, CA\, 94306\, United States;X-APPLE-RADIUS=100;X-TITLE=UUCPA:geo:37.
 419574,-122.11249800000002
END:VEVENT
BEGIN:VTIMEZONE
TZID:America/Los_Angeles
X-LIC-LOCATION:America/Los_Angeles
BEGIN:DAYLIGHT
DTSTART:20190310T030000
TZOFFSETFROM:-0800
TZOFFSETTO:-0700
TZNAME:PDT
END:DAYLIGHT
END:VTIMEZONE
END:VCALENDAR