BEGIN:VCALENDAR
VERSION:2.0
PRODID:-//wp-events-plugin.com//7.2.2.1//EN
TZID:America/Los_Angeles
X-WR-TIMEZONE:America/Los_Angeles
BEGIN:VEVENT
UID:12414@uucpa.org
DTSTART;TZID=America/Los_Angeles:20230514T101500
DTEND;TZID=America/Los_Angeles:20230514T113000
DTSTAMP:20230513T160418Z
URL:https://www.uucpa.org/events/sunday-school-for-children-and-youth-prek
 -through-grade-8-3-2023-05-14/
SUMMARY:Coming of Age Intergenerational Service - No Sunday School
DESCRIPTION:Coming of Age Intergenerational Service - No Sunday School  Com
 e celebrate our Coming of Age youth this Sunday! Unitarian Universalist te
 enagers usually join their congregations with a special "Coming of Age" ce
 remony.  This ceremony is often preceded by a year-long curriculum helpin
 g them to learn more about Unitarian Universalism and articulate their own
  beliefs. See you there!\n\n\n\nBecause we believe in learning by doing\, 
 a most important part of our religious education is participation\, with a
 ll ages\, in the first part of regular worship services. Then during Sunda
 y school\, young people learn and play with people their own age. Feel fre
 e to ask Sunday school teachers what they did this week. If you would like
  to review curriculum materials that are not online\, please call Cat Boyl
 e.\nReminders are sent via the weekly Sunday School Reminder email and mon
 thly CYRE newsletter. Sign up to get them: https://www.uucpa.org/learning/
 children-and-youth/newsletter/.  If you didn't get it\, please email cyre
 committee@uucpa.org to request the link for your child's class.  \n&nbsp
 \;\n\n&nbsp\; 
CATEGORIES:Children,Children &amp; Youth,Elementary,Learning,Sunday School
LOCATION:UUCPA
GEO:37.419574;-122.11249800000002
X-APPLE-STRUCTURED-LOCATION;VALUE=URI;X-ADDRESS=505 E Charleston Rd\, Palo 
 Alto\, CA\, 94306\, United States;X-APPLE-RADIUS=100;X-TITLE=UUCPA:geo:37.
 419574,-122.11249800000002
END:VEVENT
BEGIN:VTIMEZONE
TZID:America/Los_Angeles
X-LIC-LOCATION:America/Los_Angeles
BEGIN:DAYLIGHT
DTSTART:20230312T030000
TZOFFSETFROM:-0800
TZOFFSETTO:-0700
TZNAME:PDT
END:DAYLIGHT
END:VTIMEZONE
END:VCALENDAR