BEGIN:VCALENDAR
VERSION:2.0
PRODID:-//wp-events-plugin.com//7.2.2.1//EN
TZID:America/Los_Angeles
X-WR-TIMEZONE:America/Los_Angeles
BEGIN:VEVENT
UID:12416@uucpa.org
DTSTART;TZID=America/Los_Angeles:20230528T101500
DTEND;TZID=America/Los_Angeles:20230528T113000
DTSTAMP:20230527T133357Z
URL:https://www.uucpa.org/events/sunday-school-for-children-and-youth-prek
 -through-grade-8-3-2023-05-28/
SUMMARY:NO Sunday School - Childcare is available
DESCRIPTION:NO Sunday School - Childcare is available  There is no CYRE pro
 gramming or classes due to Memorial Day.\n\n\n\nBecause we believe in lear
 ning by doing\, a most important part of our religious education is partic
 ipation\, with all ages\, in the first part of regular worship services. T
 hen during Sunday school\, young people learn and play with people their o
 wn age. Feel free to ask Sunday school teachers what they did this week. I
 f you would like to review curriculum materials that are not online\, plea
 se call Cat Boyle.\nReminders are sent via the weekly Sunday School Remind
 er email and monthly CYRE newsletter. Sign up to get them: https://www.uuc
 pa.org/learning/children-and-youth/newsletter/.  If you didn't get it\, p
 lease email cyrecommittee@uucpa.org to request the link for your child's c
 lass.  \n&nbsp\;\n\n&nbsp\; 
CATEGORIES:Children,Children &amp; Youth,Elementary,Learning,Sunday School
LOCATION:UUCPA
GEO:37.419574;-122.11249800000002
X-APPLE-STRUCTURED-LOCATION;VALUE=URI;X-ADDRESS=505 E Charleston Rd\, Palo 
 Alto\, CA\, 94306\, United States;X-APPLE-RADIUS=100;X-TITLE=UUCPA:geo:37.
 419574,-122.11249800000002
END:VEVENT
BEGIN:VTIMEZONE
TZID:America/Los_Angeles
X-LIC-LOCATION:America/Los_Angeles
BEGIN:DAYLIGHT
DTSTART:20230312T030000
TZOFFSETFROM:-0800
TZOFFSETTO:-0700
TZNAME:PDT
END:DAYLIGHT
END:VTIMEZONE
END:VCALENDAR