BEGIN:VCALENDAR
VERSION:2.0
PRODID:-//wp-events-plugin.com//7.2.2.1//EN
TZID:America/Los_Angeles
X-WR-TIMEZONE:America/Los_Angeles
BEGIN:VEVENT
UID:13715@uucpa.org
DTSTART;TZID=America/Los_Angeles:20231217T101500
DTEND;TZID=America/Los_Angeles:20231217T113000
DTSTAMP:20231029T143218Z
URL:https://www.uucpa.org/events/sunday-school-for-children-and-youth-prek
 -through-grade-8-4-2023-12-17/
SUMMARY:Intergenerational worship: No-Rehearsal Christmas Pageant (No Sunda
 y School)
DESCRIPTION:Intergenerational worship: No-Rehearsal Christmas Pageant (No S
 unday School)  Because we believe in learning by doing\, a most important 
 part of our religious education is participation\, with all ages\, in the 
 first part of regular worship services. Then during Sunday school\, young 
 people learn and play with people their own age. Feel free to ask Sunday s
 chool teachers what they did this week. If you would like to review curric
 ulum materials that are not online\, please call Cat Boyle.\nReminders are
  sent via the weekly Sunday School Reminder email and monthly CYRE newslet
 ter. Sign up to get them: https://www.uucpa.org/learning/children-and-yout
 h/newsletter/.  If you didn't get it\, please email cyrecommittee@uucpa.o
 rg to request the link for your child's class.  \n&nbsp\;\n\n&nbsp\; 
CATEGORIES:Children,Children &amp; Youth,Elementary,Learning,Sunday School
LOCATION:UUCPA
GEO:37.419574;-122.11249800000002
X-APPLE-STRUCTURED-LOCATION;VALUE=URI;X-ADDRESS=505 E Charleston Rd\, Palo 
 Alto\, CA\, 94306\, United States;X-APPLE-RADIUS=100;X-TITLE=UUCPA:geo:37.
 419574,-122.11249800000002
END:VEVENT
BEGIN:VTIMEZONE
TZID:America/Los_Angeles
X-LIC-LOCATION:America/Los_Angeles
BEGIN:STANDARD
DTSTART:20231105T010000
TZOFFSETFROM:-0700
TZOFFSETTO:-0800
TZNAME:PST
END:STANDARD
END:VTIMEZONE
END:VCALENDAR