BEGIN:VCALENDAR
VERSION:2.0
PRODID:-//wp-events-plugin.com//7.2.2.1//EN
TZID:America/Los_Angeles
X-WR-TIMEZONE:America/Los_Angeles
BEGIN:VEVENT
UID:13729@uucpa.org
DTSTART;TZID=America/Los_Angeles:20240324T101500
DTEND;TZID=America/Los_Angeles:20240324T113000
DTSTAMP:20240323T160700Z
URL:https://www.uucpa.org/events/sunday-school-for-children-and-youth-prek
 -through-grade-8-4-2024-03-24/
SUMMARY:Children's Chapel and Gr. 4-6 OWL
DESCRIPTION:Children&#039\;s Chapel and Gr. 4-6 OWL  \n10:15 AM Preschool -
  K-8th Grade starts in Main Hall and then go to Children's Chapel together
 \, 4-6 OWL in Room 10\n\n\n\n11:15 Waffles on the patio\n\n\n\n\n\nBecause
  we believe in learning by doing\, a most important part of our religious 
 education is participation\, with all ages\, in the first part of regular 
 worship services. Then during Sunday school\, young people learn and play 
 with people their own age. Feel free to ask Sunday school teachers what th
 ey did this week. If you would like to review curriculum materials that ar
 e not online\, please call Cat Boyle.\nReminders are sent via the weekly S
 unday School Reminder email and monthly CYRE newsletter. Sign up to get th
 em: https://www.uucpa.org/learning/children-and-youth/newsletter/.  If yo
 u didn't get it\, please email cyrecommittee@uucpa.org to request the link
  for your child's class.  \n&nbsp\;\n\n&nbsp\; 
CATEGORIES:Children,Children &amp; Youth,Elementary,Learning,Sunday School
LOCATION:UUCPA
GEO:37.419574;-122.11249800000002
X-APPLE-STRUCTURED-LOCATION;VALUE=URI;X-ADDRESS=505 E Charleston Rd\, Palo 
 Alto\, CA\, 94306\, United States;X-APPLE-RADIUS=100;X-TITLE=UUCPA:geo:37.
 419574,-122.11249800000002
END:VEVENT
BEGIN:VTIMEZONE
TZID:America/Los_Angeles
X-LIC-LOCATION:America/Los_Angeles
BEGIN:DAYLIGHT
DTSTART:20240310T030000
TZOFFSETFROM:-0800
TZOFFSETTO:-0700
TZNAME:PDT
END:DAYLIGHT
END:VTIMEZONE
END:VCALENDAR