BEGIN:VCALENDAR
VERSION:2.0
PRODID:-//wp-events-plugin.com//7.2.2.1//EN
TZID:America/Los_Angeles
X-WR-TIMEZONE:America/Los_Angeles
BEGIN:VEVENT
UID:13737@uucpa.org
DTSTART;TZID=America/Los_Angeles:20240519T101500
DTEND;TZID=America/Los_Angeles:20240519T113000
DTSTAMP:20240518T111205Z
URL:https://www.uucpa.org/events/sunday-school-for-children-and-youth-prek
 -through-grade-8-4-2024-05-19/
SUMMARY:Intergenerational worship: Senior High Youth Group (No Sunday Schoo
 l)
DESCRIPTION:Intergenerational worship: Senior High Youth Group (No Sunday S
 chool)  \nThis Sunday we are celebrating all people and things religious e
 ducation with a super fun\, intergenerational service recognizing the good
  folks who volunteer to serve in the RE sphere of the church and then a pa
 ncake breakfast hosted by SHYG! Hope to see you there.\n\n\n\nChildcare is
  available.\n\n\n\n\n\n\n\nBecause we believe in learning by doing\, a mos
 t important part of our religious education is participation\, with all ag
 es\, in the first part of regular worship services. Then during Sunday sch
 ool\, young people learn and play with people their own age. Feel free to 
 ask Sunday school teachers what they did this week. If you would like to r
 eview curriculum materials that are not online\, please call Cat Boyle.\nR
 eminders are sent via the weekly Sunday School Reminder email and monthly 
 CYRE newsletter. Sign up to get them: https://www.uucpa.org/learning/child
 ren-and-youth/newsletter/.  If you didn't get it\, please email cyrecommi
 ttee@uucpa.org to request the link for your child's class.  \n&nbsp\;\n\
 n&nbsp\; 
CATEGORIES:Children,Children &amp; Youth,Elementary,Learning,Sunday School
LOCATION:UUCPA
GEO:37.419574;-122.11249800000002
X-APPLE-STRUCTURED-LOCATION;VALUE=URI;X-ADDRESS=505 E Charleston Rd\, Palo 
 Alto\, CA\, 94306\, United States;X-APPLE-RADIUS=100;X-TITLE=UUCPA:geo:37.
 419574,-122.11249800000002
END:VEVENT
BEGIN:VTIMEZONE
TZID:America/Los_Angeles
X-LIC-LOCATION:America/Los_Angeles
BEGIN:DAYLIGHT
DTSTART:20240310T030000
TZOFFSETFROM:-0800
TZOFFSETTO:-0700
TZNAME:PDT
END:DAYLIGHT
END:VTIMEZONE
END:VCALENDAR