BEGIN:VCALENDAR
VERSION:2.0
PRODID:-//wp-events-plugin.com//7.2.2.1//EN
TZID:America/Los_Angeles
X-WR-TIMEZONE:America/Los_Angeles
BEGIN:VEVENT
UID:15523@uucpa.org
DTSTART;TZID=America/Los_Angeles:20241222T101500
DTEND;TZID=America/Los_Angeles:20241222T113000
DTSTAMP:20241221T190222Z
URL:https://www.uucpa.org/events/sunday-school-for-children-and-youth-prek
 -through-grade-8-5-2024-12-22/
SUMMARY:Children's Chapel
DESCRIPTION:Children&#039\;s Chapel  10:15 AM: All ages start in service to
 day and then at 10:30 AM attend Children's Chapel together. Childcare avai
 lable.\n\nBecause we believe in learning by doing\, a very important part 
 of our religious education is participation\, with all ages\, in the first
  part of regular worship services. Then during Sunday school\, young peopl
 e learn and play with people their age. Feel free to ask Sunday school tea
 chers what they did this week. If you would like to review curriculum mate
 rials that are not online\, please contact Rev. Cat Boyle.\nReminders are 
 sent via the weekly Sunday School Reminder email. If you didn't get it\, 
 please email cyrecommittee@uucpa.org to get on our list.Find out more at: 
 https://www.uucpa.org/learning/children-and-youth/sunday-morning-program-f
 or-families/\n&nbsp\;\n\n&nbsp\; 
CATEGORIES:Children,Children &amp; Youth,Elementary,Learning,Sunday School
LOCATION:UUCPA
GEO:37.419574;-122.11249800000002
X-APPLE-STRUCTURED-LOCATION;VALUE=URI;X-ADDRESS=505 E Charleston Rd\, Palo 
 Alto\, CA\, 94306\, United States;X-APPLE-RADIUS=100;X-TITLE=UUCPA:geo:37.
 419574,-122.11249800000002
END:VEVENT
BEGIN:VTIMEZONE
TZID:America/Los_Angeles
X-LIC-LOCATION:America/Los_Angeles
BEGIN:STANDARD
DTSTART:20241103T010000
TZOFFSETFROM:-0700
TZOFFSETTO:-0800
TZNAME:PST
END:STANDARD
END:VTIMEZONE
END:VCALENDAR