BEGIN:VCALENDAR
VERSION:2.0
PRODID:-//wp-events-plugin.com//7.2.2.1//EN
TZID:America/Los_Angeles
X-WR-TIMEZONE:America/Los_Angeles
BEGIN:VEVENT
UID:15540@uucpa.org
DTSTART;TZID=America/Los_Angeles:20250420T101500
DTEND;TZID=America/Los_Angeles:20250420T113000
DTSTAMP:20240810T191807Z
URL:https://www.uucpa.org/events/sunday-school-for-children-and-youth-prek
 -through-grade-8-5-2025-04-20/
SUMMARY:No Sunday School - Intergenerational Worship: Easter
DESCRIPTION:No Sunday School - Intergenerational Worship: Easter  Because w
 e believe in learning by doing\, a very important part of our religious ed
 ucation is participation\, with all ages\, in the first part of regular wo
 rship services. Then during Sunday school\, young people learn and play wi
 th people their age. Feel free to ask Sunday school teachers what they did
  this week. If you would like to review curriculum materials that are not 
 online\, please contact Rev. Cat Boyle.\nReminders are sent via the weekly
  Sunday School Reminder email. If you didn't get it\, please email cyreco
 mmittee@uucpa.org to get on our list.\n\nFind out more at: https://www.uuc
 pa.org/learning/children-and-youth/sunday-morning-program-for-families/\n&
 nbsp\;\n\n&nbsp\; 
CATEGORIES:Children,Children &amp; Youth,Elementary,Learning,Sunday School
LOCATION:UUCPA
GEO:37.419574;-122.11249800000002
X-APPLE-STRUCTURED-LOCATION;VALUE=URI;X-ADDRESS=505 E Charleston Rd\, Palo 
 Alto\, CA\, 94306\, United States;X-APPLE-RADIUS=100;X-TITLE=UUCPA:geo:37.
 419574,-122.11249800000002
END:VEVENT
BEGIN:VTIMEZONE
TZID:America/Los_Angeles
X-LIC-LOCATION:America/Los_Angeles
BEGIN:DAYLIGHT
DTSTART:20250309T030000
TZOFFSETFROM:-0800
TZOFFSETTO:-0700
TZNAME:PDT
END:DAYLIGHT
END:VTIMEZONE
END:VCALENDAR