BEGIN:VCALENDAR
VERSION:2.0
PRODID:-//wp-events-plugin.com//7.2.2.1//EN
TZID:America/Los_Angeles
X-WR-TIMEZONE:America/Los_Angeles
BEGIN:VEVENT
UID:17675@uucpa.org
DTSTART;TZID=America/Los_Angeles:20260315T103000
DTEND;TZID=America/Los_Angeles:20260315T113000
DTSTAMP:20260314T233731Z
URL:https://www.uucpa.org/events/sunday-school-for-children-and-youth-prek
 -through-grade-8-6-2025-10-12-2025-10-19-2025-10-26-2025-11-02-2025-11-09-
 2025-11-16-2025-11-23-2025-11-30-2025-12-07-2025-12-14-2025-12-21-2025-08-
 2026-03-15/
SUMMARY:Sunday School for children and youth preK through grade 8
DESCRIPTION:Sunday School for children and youth preK through grade 8  This
  Sunday\n\n 	Preschool - 5 have Children's Chapel after the story. \n\n 	
 There is no K-1 OWL this week. \n\n 	6-8 Grade: This class is attending P
 alo Alto Buddhist Temple (PABT)\, located at 2751 Louis Road in Palo Alto.
  We'll attend the service at 10am\, but we've arrange to meet our "host" a
 t 9:50am outside the main entrance\, so we can enter and get seated togeth
 er. You can meet us at the temple or meet at UUCPA by 9:40am to carpool wi
 th one of the teachers. Interested parents are welcome to attend the servi
 ce too!\n 	4 pm Sacred Lives: An Interfaith Community Vigil for Solidarity
  for Palo Alto's Trans Youth\, 4 pm\, March 15\n\nBecause we believe in le
 arning by doing\, a very important part of our religious education is part
 icipation\, with all ages\, in the first part of regular worship services.
  Then during Sunday school\, young people learn and play with people their
  age. Feel free to ask Sunday school teachers what they did this week. If 
 you would like to review curriculum materials that are not online\, please
  contact Rev. Cat Boyle.\nReminders are sent via the weekly Sunday School 
 Reminder email. If you didn't get it\, please email cyrecommittee@uucpa.o
 rg to get on our list.Find out more at: https://www.uucpa.org/learning/chi
 ldren-and-youth/sunday-morning-program-for-families/\n&nbsp\;\n\n&nbsp\; 
CATEGORIES:Children,Children &amp; Youth,Elementary,Learning,Sunday School
LOCATION:UUCPA
GEO:37.419574;-122.11249800000002
X-APPLE-STRUCTURED-LOCATION;VALUE=URI;X-ADDRESS=505 E Charleston Rd\, Palo 
 Alto\, CA\, 94306\, United States;X-APPLE-RADIUS=100;X-TITLE=UUCPA:geo:37.
 419574,-122.11249800000002
END:VEVENT
BEGIN:VTIMEZONE
TZID:America/Los_Angeles
X-LIC-LOCATION:America/Los_Angeles
BEGIN:DAYLIGHT
DTSTART:20260308T030000
TZOFFSETFROM:-0800
TZOFFSETTO:-0700
TZNAME:PDT
END:DAYLIGHT
END:VTIMEZONE
END:VCALENDAR