BEGIN:VCALENDAR
VERSION:2.0
PRODID:-//wp-events-plugin.com//7.2.2.1//EN
TZID:America/Los_Angeles
X-WR-TIMEZONE:America/Los_Angeles
BEGIN:VEVENT
UID:17673@uucpa.org
DTSTART;TZID=America/Los_Angeles:20260301T103000
DTEND;TZID=America/Los_Angeles:20260301T113000
DTSTAMP:20260228T201542Z
URL:https://www.uucpa.org/events/sunday-school-for-children-and-youth-prek
 -through-grade-8-6-2025-10-12-2025-10-19-2025-10-26-2025-11-02-2025-11-09-
 2025-11-16-2025-11-23-2025-11-30-2025-12-07-2025-12-14-2025-12-21-2025-22-
 2026-03-01/
SUMMARY:Sunday School for children and youth preK through grade 8\, K-1 OWL
DESCRIPTION:Sunday School for children and youth preK through grade 8\, K-1
  OWL  \n\n\n\nThis Sunday\n\n 	10:30 All ages meet in the Main Hall and at
 tend class together after the story at 10:45 AM\n 	K-1 OWL meets in Room 4
 -5\n 	Preschool - 2 meets in Room 1\n 	3-5 meets in Room 9\n 	6-8  meets 
 in Room 10\n\n\n\n\n\n\n\n\n\n\n\n\nThis Sunday after service\, join us fo
 r a short\, fun conversation about pledging $ to UUCPA.  Fun? I think yes
  - we will have snacks\, child care\, a skit\, info and Q&amp\;A\, and all
  of you good folks. Our meeting will be after service (take 10 to get your
  coffee) in room 4-5. And besides fun 😉 - talking about $ is also impor
 tant.  You have a few weeks to choose what amount to pledge for next year
  - we hope you will join us this Sunday for a conversation to help you con
 sider what pledge works for you.\n\nBecause we believe in learning by doin
 g\, a very important part of our religious education is participation\, wi
 th all ages\, in the first part of regular worship services. Then during S
 unday school\, young people learn and play with people their age. Feel fre
 e to ask Sunday school teachers what they did this week. If you would like
  to review curriculum materials that are not online\, please contact Rev. 
 Cat Boyle.\n\n\n\n\n\nReminders are sent via the weekly Sunday School Remi
 nder email. If you didn't get it\, please email cyrecommittee@uucpa.org t
 o get on our list.Find out more at: https://www.uucpa.org/learning/childre
 n-and-youth/sunday-morning-program-for-families/\n&nbsp\;\n\n&nbsp\; 
CATEGORIES:Children,Children &amp; Youth,Elementary,Learning,Sunday School
LOCATION:UUCPA
GEO:37.419574;-122.11249800000002
X-APPLE-STRUCTURED-LOCATION;VALUE=URI;X-ADDRESS=505 E Charleston Rd\, Palo 
 Alto\, CA\, 94306\, United States;X-APPLE-RADIUS=100;X-TITLE=UUCPA:geo:37.
 419574,-122.11249800000002
END:VEVENT
BEGIN:VTIMEZONE
TZID:America/Los_Angeles
X-LIC-LOCATION:America/Los_Angeles
BEGIN:STANDARD
DTSTART:20251102T010000
TZOFFSETFROM:-0700
TZOFFSETTO:-0800
TZNAME:PST
END:STANDARD
END:VTIMEZONE
END:VCALENDAR