BEGIN:VCALENDAR
VERSION:2.0
PRODID:-//wp-events-plugin.com//7.2.2.1//EN
TZID:America/Los_Angeles
X-WR-TIMEZONE:America/Los_Angeles
BEGIN:VEVENT
UID:17677@uucpa.org
DTSTART;TZID=America/Los_Angeles:20260329T103000
DTEND;TZID=America/Los_Angeles:20260329T113000
DTSTAMP:20260328T203543Z
URL:https://www.uucpa.org/events/sunday-school-for-children-and-youth-prek
 -through-grade-8-6-2025-10-12-2025-10-19-2025-10-26-2025-11-02-2025-11-09-
 2025-11-16-2025-11-23-2025-11-30-2025-12-07-2025-12-14-2025-12-21-2025-22-
 2026-03-29/
SUMMARY:No Sunday School this week.  OWL K-1 is meeting
DESCRIPTION:No Sunday School this week.  OWL K-1 is meeting  This Sunday\n\
 n 	Regular RE is off this Sunday\, except for OWL K-1. All students not at
 tending OWL are invited to attend service or play in Room 2 with childcare
 .\n 	OWL K-1 will meet in Room 4-5 from 10:45 - 11:45 PM.\n\nBecause we be
 lieve in learning by doing\, a very important part of our religious educat
 ion is participation\, with all ages\, in the first part of regular worshi
 p services. Then during Sunday school\, young people learn and play with p
 eople their age. Feel free to ask Sunday school teachers what they did thi
 s week. If you would like to review curriculum materials that are not onli
 ne\, please contact Rev. Cat Boyle.\nReminders are sent via the weekly Sun
 day School Reminder email. If you didn't get it\, please email cyrecommit
 tee@uucpa.org to get on our list.Find out more at: https://www.uucpa.org/l
 earning/children-and-youth/sunday-morning-program-for-families/\n&nbsp\;\n
 \n&nbsp\; 
CATEGORIES:Children,Children &amp; Youth,Elementary,Learning,Sunday School
LOCATION:UUCPA
GEO:37.419574;-122.11249800000002
X-APPLE-STRUCTURED-LOCATION;VALUE=URI;X-ADDRESS=505 E Charleston Rd\, Palo 
 Alto\, CA\, 94306\, United States;X-APPLE-RADIUS=100;X-TITLE=UUCPA:geo:37.
 419574,-122.11249800000002
END:VEVENT
BEGIN:VTIMEZONE
TZID:America/Los_Angeles
X-LIC-LOCATION:America/Los_Angeles
BEGIN:DAYLIGHT
DTSTART:20260308T030000
TZOFFSETFROM:-0800
TZOFFSETTO:-0700
TZNAME:PDT
END:DAYLIGHT
END:VTIMEZONE
END:VCALENDAR