BEGIN:VCALENDAR
VERSION:2.0
PRODID:-//wp-events-plugin.com//7.2.2.1//EN
TZID:America/Los_Angeles
X-WR-TIMEZONE:America/Los_Angeles
BEGIN:VEVENT
UID:17669@uucpa.org
DTSTART;TZID=America/Los_Angeles:20260201T103000
DTEND;TZID=America/Los_Angeles:20260201T113000
DTSTAMP:20260131T183740Z
URL:https://www.uucpa.org/events/sunday-school-for-children-and-youth-prek
 -through-grade-8-6-2025-10-12-2025-10-19-2025-10-26-2025-11-02-2025-11-09-
 2025-11-16-2025-11-23-2025-11-30-2025-12-07-2025-12-14-2025-12-21-2025-25-
 2026-02-01/
SUMMARY:Intergenerational Service - Rev Cat Installation and Fire Communion
 \, No Sunday School except for OWL
DESCRIPTION:Intergenerational Service - Rev Cat Installation and Fire Commu
 nion\, No Sunday School except for OWL  Please join us this Sunday for the
  Installation of Rev. Cat Boyle and Fire Communion in the Main Hall at 10:
 30 AM.\n\nThis Sunday \n10:30 AM - Service in the Main Hall for All Ages\
 n10:45 AM - K-1 OWL students and parents are dismissed.\n11:30 AM - Everyo
 ne is invited to join us on the patio for food and fellowship. Come celebr
 ate with us!\n\nBecause we believe in learning by doing\, a very important
  part of our religious education is participation\, with all ages\, in the
  first part of regular worship services. Then during Sunday school\, young
  people learn and play with people their age. Feel free to ask Sunday scho
 ol teachers what they did this week. If you would like to review curriculu
 m materials that are not online\, please contact Rev. Cat Boyle.\nReminder
 s are sent via the weekly Sunday School Reminder email. If you didn't get
  it\, please email cyrecommittee@uucpa.org to get on our list.Find out mor
 e at: https://www.uucpa.org/learning/children-and-youth/sunday-morning-pro
 gram-for-families/\n&nbsp\;\n\n&nbsp\; 
CATEGORIES:Children,Children &amp; Youth,Elementary,Learning,Sunday School
LOCATION:UUCPA
GEO:37.419574;-122.11249800000002
X-APPLE-STRUCTURED-LOCATION;VALUE=URI;X-ADDRESS=505 E Charleston Rd\, Palo 
 Alto\, CA\, 94306\, United States;X-APPLE-RADIUS=100;X-TITLE=UUCPA:geo:37.
 419574,-122.11249800000002
END:VEVENT
BEGIN:VTIMEZONE
TZID:America/Los_Angeles
X-LIC-LOCATION:America/Los_Angeles
BEGIN:STANDARD
DTSTART:20251102T010000
TZOFFSETFROM:-0700
TZOFFSETTO:-0800
TZNAME:PST
END:STANDARD
END:VTIMEZONE
END:VCALENDAR