BEGIN:VCALENDAR
VERSION:2.0
PRODID:-//wp-events-plugin.com//7.2.2.1//EN
TZID:America/Los_Angeles
X-WR-TIMEZONE:America/Los_Angeles
BEGIN:VEVENT
UID:17678@uucpa.org
DTSTART;TZID=America/Los_Angeles:20260405T103000
DTEND;TZID=America/Los_Angeles:20260405T113000
DTSTAMP:20260404T155215Z
URL:https://www.uucpa.org/events/sunday-school-for-children-and-youth-prek
 -through-grade-8-6-2025-10-12-2025-10-19-2025-10-26-2025-11-02-2025-11-09-
 2025-11-16-2025-11-23-2025-11-30-2025-12-07-2025-12-14-2025-12-21-2025-29-
 2026-04-05/
SUMMARY:Easter Children's Chapel and Egg Hunt
DESCRIPTION:Easter Children&#039\;s Chapel and Egg Hunt  \nThis Sunday kids
  and youth of all ages are invited to celebrate with us. We'll have a Chil
 dren's Chapel about the season for kids and youth after the story. After t
 he service\, everyone is invited to come join us on the Thatcher Playgroun
 d for the Easter Egg Hunt!\n\nWe'll have baskets you can take home with yo
 u with your treats.\n\nOWL and regular RE programming will resume next Sun
 day.\n \n\nBecause we believe in learning by doing\, a very important par
 t of our religious education is participation\, with all ages\, in the fir
 st part of regular worship services. Then during Sunday school\, young peo
 ple learn and play with people their age. Feel free to ask Sunday school t
 eachers what they did this week. If you would like to review curriculum ma
 terials that are not online\, please contact Rev. Cat Boyle.\nReminders ar
 e sent via the weekly Sunday School Reminder email. If you didn't get it\
 , please email cyrecommittee@uucpa.org to get on our list.Find out more at
 : https://www.uucpa.org/learning/children-and-youth/sunday-morning-program
 -for-families/\n&nbsp\;\n\n&nbsp\; 
CATEGORIES:Children,Children &amp; Youth,Elementary,Learning,Sunday School
LOCATION:UUCPA
GEO:37.419574;-122.11249800000002
X-APPLE-STRUCTURED-LOCATION;VALUE=URI;X-ADDRESS=505 E Charleston Rd\, Palo 
 Alto\, CA\, 94306\, United States;X-APPLE-RADIUS=100;X-TITLE=UUCPA:geo:37.
 419574,-122.11249800000002
END:VEVENT
BEGIN:VTIMEZONE
TZID:America/Los_Angeles
X-LIC-LOCATION:America/Los_Angeles
BEGIN:DAYLIGHT
DTSTART:20260308T030000
TZOFFSETFROM:-0800
TZOFFSETTO:-0700
TZNAME:PDT
END:DAYLIGHT
END:VTIMEZONE
END:VCALENDAR