BEGIN:VCALENDAR
VERSION:2.0
PRODID:-//wp-events-plugin.com//7.2.2.1//EN
TZID:America/Los_Angeles
X-WR-TIMEZONE:America/Los_Angeles
BEGIN:VEVENT
UID:9197@uucpa.org
DTSTART;TZID=America/Los_Angeles:20200930T193000
DTEND;TZID=America/Los_Angeles:20200930T210000
DTSTAMP:20200924T170845Z
URL:https://www.uucpa.org/events/trans-experience-and-spirituality-a-welco
 ming-congregation-seminar/
SUMMARY:Trans Experience and Spirituality: A Welcoming Congregation seminar
DESCRIPTION:Trans Experience and Spirituality: A Welcoming Congregation sem
 inar  Please join UUCPA’s Welcoming Congregation team on Wednesday\, S
 ept. 30\, from 7:30 pm – 9 pm\, for an engaging Zoom seminar on the dive
 rsity of the transgender community\, the experiences of transgender\, non-
 binary\, and genderqueer people within Unitarian Universalism\, and the sp
 iritual meaning at the heart of their personal journeys.\n\nThe Zoom semin
 ar will feature selections from the online course series “Transgender In
 clusion in Congregations\,” developed by UU leaders Rev. Mykal O’Neal 
 Slack and Zr. Alex Kapitan and the Transforming Hearts Collective. Join us
  to learn and discuss!\n\nJoin via Zoom video: https://us02web.zoom.us/j/
 84875210405\nMeeting ID: 848 7521 0405\nTo join with a regular phone\, cal
 l +1 669 900 9128 US (San Jose)\n\nThe meeting password will be emailed 
 to the Announce and CYRE Parents email lists the day before the meeting. I
 f you don’t get the password\, you can email welcoming@uucpa.org and r
 equest it.\n\nUUCPA has been recognized as a Welcoming Congregation for LG
 BTQ+ UU’s since 1999\, and the UUA recently called on UU churches to for
 mally renew our commitment and respond to the evolving needs and concerns 
 of LGBTQ+ people. The UUA issued this call\, in part\, to ensure that chur
 ches like ours provide a welcoming spiritual home for transgender\, non-bi
 nary\, and genderqueer UUs.\n\nSlack and Kapitan’s “Transgender Inclus
 ion in Congregations” course has been praised highly by those congregati
 ons that have used it. UUCPA has purchased access to the course as part of
  our Welcoming Congregation renewal effort. On Sept. 30\, you’ll learn h
 ow you can keep exploring the course\, whether on your own or together wit
 h friends or your small group.\n\nGratefully and in solidarity\,\nSusan Ow
 icki (she/her/hers) and Matt Rosin (he/him/his) on behalf of UUCPA’s Wel
 coming Congregation renewal effort 
ATTACH;FMTTYPE=image/jpeg:https://www.uucpa.org/wp-content/uploads/2020/09
 /Trans-Experience-and-Spirituality-3.png
CATEGORIES:Special Events,Welcoming
END:VEVENT
BEGIN:VTIMEZONE
TZID:America/Los_Angeles
X-LIC-LOCATION:America/Los_Angeles
BEGIN:DAYLIGHT
DTSTART:20200308T030000
TZOFFSETFROM:-0800
TZOFFSETTO:-0700
TZNAME:PDT
END:DAYLIGHT
END:VTIMEZONE
END:VCALENDAR