BEGIN:VCALENDAR
VERSION:2.0
PRODID:-//wp-events-plugin.com//7.2.2.1//EN
TZID:America/Los_Angeles
X-WR-TIMEZONE:America/Los_Angeles
BEGIN:VEVENT
UID:5284@uucpa.org
DTSTART;TZID=America/Los_Angeles:20190126T090000
DTEND;TZID=America/Los_Angeles:20190126T160000
DTSTAMP:20181231T194901Z
URL:https://www.uucpa.org/events/treasures-benefit-sale-setup-2/
SUMMARY:Treasures Benefit Sale Setup
DESCRIPTION:Treasures Benefit Sale Setup  Treasures Benefit Sale\n\nSunda
 y\, January 27th 9:00 am – 1:00 pm\n\nFireside Room\n\n&nbsp\;\n\nDo y
 ou have any unwanted Christmas Gifts that you don’t know what to do with
 ?  Spring cleaning?  Down-sizing?  Looking for handsome home decoration
 s\, unique toys\, and musical instruments?  Donate your "gift-worthy" goo
 ds (new or gently used).  Someone else will buy your treasures!\n\n&nbsp
 \;\n\nOur annual Treasures Sale benefits UUCPA’s social-action progra
 ms.  We welcome volunteers to help prepare the store on Saturday\, Janua
 ry 26th from 9:00 to 4:00 pm\, and to help customers and clean up on Sun
 day.  Any unsold items go to local resale shops or are held for the Yard
  Sale.\n\n&nbsp\;\n\nDonate your “treasures” to the Fireside Room on 
 Saturday\, January 26th between 9:00 – 1:00 pm or anytime Monday thru F
 riday between 9:00 am – 2:00 pm at the church office.  Please\, NO yard
  sale items – all items must be “gift-worthy”!\n\nSee you there! 
CATEGORIES:Fundraising,Special Events
LOCATION:Fireside Room
GEO:37.419574;-122.11249800000002
X-APPLE-STRUCTURED-LOCATION;VALUE=URI;X-ADDRESS=505 E Charleston Road\, Pal
 o Alto\, CA\, 94306\, United States;X-APPLE-RADIUS=100;X-TITLE=Fireside Ro
 om:geo:37.419574,-122.11249800000002
END:VEVENT
BEGIN:VTIMEZONE
TZID:America/Los_Angeles
X-LIC-LOCATION:America/Los_Angeles
BEGIN:STANDARD
DTSTART:20181104T010000
TZOFFSETFROM:-0700
TZOFFSETTO:-0800
TZNAME:PST
END:STANDARD
END:VTIMEZONE
END:VCALENDAR