BEGIN:VCALENDAR
VERSION:2.0
PRODID:-//wp-events-plugin.com//7.2.2.1//EN
TZID:America/Los_Angeles
X-WR-TIMEZONE:America/Los_Angeles
BEGIN:VEVENT
UID:14368@uucpa.org
DTSTART;TZID=America/Los_Angeles:20240510T170000
DTEND;TZID=America/Los_Angeles:20240510T183000
DTSTAMP:20240116T061825Z
URL:https://www.uucpa.org/events/uplift-trans-nonbinary-pastoral-small-gro
 up-3/
SUMMARY:UPLIFT Trans/Nonbinary+ Pastoral Small Group
DESCRIPTION:UPLIFT Trans/Nonbinary+ Pastoral Small Group  \n\nThis is a clo
 sed event specifically for trans/nonbinary+ people. Anyone who is trans\, 
 nonbinary\, metagender\, multigender\, genderfluid\, agender\, demigender\
 , genderqueer\, and otherwise not wholly or entirely cis is welcome to att
 end.\n\nYou do not have to be UU to attend\, as long as you are comfortabl
 e with this space having a UU flavor/focus.\n\nThis pastoral small group i
 s for ages 18 and older. Note: anyone who is a legal adult but is enrolled
  in high school and/or their congregation's youth group is asked to atten
 d the youth space.\n\nUPLIFT is a program of the Unitarian Universalist As
 sociation. Please sign up here to let them know if you're interested in le
 arning about the pastoral small group for adults\, which meets on the seco
 nd Friday of each month at 5 pm Pacific. If you can't make it to the next 
 one\, please still fill out this form to share your ideas and so they can 
 stay in touch about future meetings! 
CATEGORIES:Non-UUCPA,Welcoming
END:VEVENT
BEGIN:VTIMEZONE
TZID:America/Los_Angeles
X-LIC-LOCATION:America/Los_Angeles
BEGIN:DAYLIGHT
DTSTART:20240310T030000
TZOFFSETFROM:-0800
TZOFFSETTO:-0700
TZNAME:PDT
END:DAYLIGHT
END:VTIMEZONE
END:VCALENDAR