BEGIN:VCALENDAR
VERSION:2.0
PRODID:-//wp-events-plugin.com//7.2.2.1//EN
TZID:America/Los_Angeles
X-WR-TIMEZONE:America/Los_Angeles
BEGIN:VEVENT
UID:3057@uucpa.org
DTSTART;TZID=America/Los_Angeles:20180210T100000
DTEND;TZID=America/Los_Angeles:20180210T163000
DTSTAMP:20180109T164418Z
URL:https://www.uucpa.org/events/uu-class-conversations-workshop/
SUMMARY:UU Class Conversations Workshop
DESCRIPTION:UU Class Conversations Workshop  Rev. Melissa Thomson\, communi
 ty minister and hospital chaplain affiliated with UUCPA\, welcomes you to 
 join her in attending an important upcoming workshop on social and economi
 c class distinctions and their impact on the work of building beloved comm
 unity. Our UUCPA board has endorsed participation in the UU Class Conversa
 tions Workshop and given a donation to help offset some of the cost of thi
 s event.\n\nRefreshments and registration open at 9:30 a.m.\n\nWorkshop in
 cludes lunch (vegan and gluten-free options provided)\n\nChildcare: availa
 ble if requested in advance\n\nTickets: Sliding scale $20-50  (No one tu
 rned away for lack of funds)\n\nRegistration: online at: http://www.pcduum
 a.com/upcoming-events.html (Go to webpage and scroll down to the February 
 10 UU Class Conversations calendar listing for the registration link.)\n\n
 Event had previously been set for October 2017 when fires in the Bay Area 
 led event planners to postpone to this new date\, Feb 10\, 2018.\n\nTestim
 ony from a past Class Conversations participant: "This was such a good wor
 kshop! Talking about our class background (or even acknowledging the exist
 ence of class distinctions) comes loaded with a lot of shame. The sense th
 at we shouldn't talk about money and class seems to affect us regardless o
 f where we fall on the class spectrum. The facilitators understood this an
 d were not only gentle and accepting\, themselves\, but helped everyone to
  have non-judgmental conversations about this tender aspect of life." – 
 Rev. Amy Zucker Morgenstern\n\nRegister at the link provided below and the
 n please be in touch if you’d like to form a carpool with other UUCPA at
 tendees by contacting Melissa Thomson at melcthom@gmail.com.\n\n&nbsp\;\n\
 n&nbsp\;\n\nFor more information on the program\, please contact Millie Ph
 illips at 415 272-4152 or milliephillips@comcast.net. 
CATEGORIES:Non-UUCPA,Offsite
LOCATION:UU Church of Berkeley
GEO:37.9181539;-122.28260999999998
X-APPLE-STRUCTURED-LOCATION;VALUE=URI;X-ADDRESS=1 Lawson St.\, Kensington\,
  CA\, United States;X-APPLE-RADIUS=100;X-TITLE=UU Church of Berkeley:geo:3
 7.9181539,-122.28260999999998
END:VEVENT
BEGIN:VTIMEZONE
TZID:America/Los_Angeles
X-LIC-LOCATION:America/Los_Angeles
BEGIN:STANDARD
DTSTART:20171105T010000
TZOFFSETFROM:-0700
TZOFFSETTO:-0800
TZNAME:PST
END:STANDARD
END:VTIMEZONE
END:VCALENDAR