BEGIN:VCALENDAR
VERSION:2.0
PRODID:-//wp-events-plugin.com//7.2.2.1//EN
TZID:America/Los_Angeles
X-WR-TIMEZONE:America/Los_Angeles
BEGIN:VEVENT
UID:14448@uucpa.org
DTSTART;TZID=America/Los_Angeles:20240419T180000
DTEND;TZID=America/Los_Angeles:20240420T170000
DTSTAMP:20240224T160459Z
URL:https://www.uucpa.org/events/uua-pacific-western-regional-assembly/
SUMMARY:UUA Pacific Western Regional Assembly
DESCRIPTION:UUA Pacific Western Regional Assembly  Connect with other UUs i
 n the Pacific Western Region.  Our 4th Regional Assembly will be held in
  Denver on April 19 and 20\, at the beautiful First Universalist Church. 
  You can attend either in person or online. The keynote address will featu
 re a conversation between our UUA President Rev. Dr. Sofía Betancourt and
  the new President of the United Church of Christ\, Rev. Dr. Karen Georgia
  A. Thompson.   There will be inspirational worship\, workshops\, and a 
 craft room.  There will be a reception on Friday evening.  We will also 
 host a continental breakfast and catered lunch on Saturday. This is a fami
 ly-friendly event\, with childcare.\n\nA block of rooms has been reserved 
 at the Courtyard Marriot Hotel Cherry Creek.  Sign up for no-host dinner 
 groups on Saturday evening to continue the conversations. We hope to conne
 ct with you at RA! Register Today at: https://www.uua.org/pacific-western
 /calendar/pwr-uua/pwr-threads-connect-stories-inspire 
ATTACH;FMTTYPE=image/jpeg:https://www.uucpa.org/wp-content/uploads/2024/02
 /Reg-Assembly-2024_0.png
CATEGORIES:Non-UUCPA
LOCATION:First Universalist Church of Denver\, CO
X-APPLE-STRUCTURED-LOCATION;VALUE=URI;X-ADDRESS=4101 E. Hampden Ave.\, Denv
 er\, CO\, 80222\, United States;X-APPLE-RADIUS=100;X-TITLE=First Universal
 ist Church of Denver\, CO:geo:0,0
END:VEVENT
BEGIN:VTIMEZONE
TZID:America/Los_Angeles
X-LIC-LOCATION:America/Los_Angeles
BEGIN:DAYLIGHT
DTSTART:20240310T030000
TZOFFSETFROM:-0800
TZOFFSETTO:-0700
TZNAME:PDT
END:DAYLIGHT
END:VTIMEZONE
END:VCALENDAR