BEGIN:VCALENDAR
VERSION:2.0
PRODID:-//wp-events-plugin.com//7.2.2.1//EN
TZID:America/Los_Angeles
X-WR-TIMEZONE:America/Los_Angeles
BEGIN:VEVENT
UID:12465@uucpa.org
DTSTART;TZID=America/Los_Angeles:20230430T114500
DTEND;TZID=America/Los_Angeles:20230430T131500
DTSTAMP:20230430T181906Z
URL:https://www.uucpa.org/events/uucpa-2-class-series-my-spiritual-practic
 e-and-its-impact-on-my-life-2023-04-30/
SUMMARY:UUCPA 2-Class Series: My Spiritual Practice and its Impact on My Li
 fe
DESCRIPTION:UUCPA 2-Class Series: My Spiritual Practice and its Impact on M
 y Life  \nTitle: My Spiritual Practice and its Impact on My Life\nDate: S
 unday\, April 30 and May 21\, 2023\nTime: 11:45am - 1:15pm\nLocation: Fire
 side Room and Zoom\nApril 30th Presented by: Steve Johnson and Maribea Ber
 ry\nMay 21st Presented by: Weijia Cheng and Ed Haertel\n\nDescription:\n\n
 This two-session class will take place in the Fireside Room (hybrid format
 ) at 11:45 on Sundays 4-30-23 and 5-21-23. Each class will be divided into
  two separate parts\, with a total of four UUCPA members presenting and th
 en answering questions on the topic My Spiritual Practice and its Impact o
 n My Life.\n\n\n\nJoin Zoom Meeting\nhttps://zoom.us/j/95975934702?pwd=TWQ
 zR0hwSWhuSjFlZjVOYXVpZUhKQT09\n\nMeeting ID: 959 7593 4702\nPasscode: 1142
 67\n\n 
ATTACH;FMTTYPE=image/jpeg:https://www.uucpa.org/wp-content/uploads/2023/02
 /My-Spiritual-Practice-and-its-Impact-on-My-Life-1.png
CATEGORIES:Adult,Classes,Learning
LOCATION:Fireside Room
GEO:37.419574;-122.11249800000002
X-APPLE-STRUCTURED-LOCATION;VALUE=URI;X-ADDRESS=505 E Charleston Road\, Pal
 o Alto\, CA\, 94306\, United States;X-APPLE-RADIUS=100;X-TITLE=Fireside Ro
 om:geo:37.419574,-122.11249800000002
END:VEVENT
BEGIN:VTIMEZONE
TZID:America/Los_Angeles
X-LIC-LOCATION:America/Los_Angeles
BEGIN:DAYLIGHT
DTSTART:20230312T030000
TZOFFSETFROM:-0800
TZOFFSETTO:-0700
TZNAME:PDT
END:DAYLIGHT
END:VTIMEZONE
END:VCALENDAR