BEGIN:VCALENDAR
VERSION:2.0
PRODID:-//wp-events-plugin.com//7.2.2.1//EN
TZID:America/Los_Angeles
X-WR-TIMEZONE:America/Los_Angeles
BEGIN:VEVENT
UID:16745@uucpa.org
DTSTART;TZID=America/Los_Angeles:20250426T080000
DTEND;TZID=America/Los_Angeles:20250426T140000
DTSTAMP:20250412T202207Z
URL:https://www.uucpa.org/events/uucpa-blood-drive-3/
SUMMARY:UUCPA Blood Drive
DESCRIPTION:UUCPA Blood Drive  Come join us for the Blood Donation Olympics
  – the competitive game that saves lives!  This event is sponsored by U
 UCPA and the American Red Cross. The UUCPA Blood Donation Olympics is sche
 duled for Saturday\, April 26. This event is hosted by the American Red Cr
 oss and UUCPA. Please schedule an appointment to donate: https://www.redcr
 ossblood.org/give.html/drive-results?order=DATE&amp\;range=10&amp\;zipSpon
 sor=Olympics\nor consider volunteering.\n\nDate: Saturday\, April 26 \n\nL
 ocation: Main Hall\n\nEligibility: If you have questions regarding your e
 ligibility to donate please call 1-866-236-3276.\n\nContact: Randy Helmond
 s (his contact information can be obtained from the church office ... emai
 l uucpa@uucpa.org or call 650-494-0541)\n\n&nbsp\; 
ATTACH;FMTTYPE=image/jpeg:https://www.uucpa.org/wp-content/uploads/2025/03
 /Blood-Donation-Olympics-.png
CATEGORIES:Justice Projects,Special Events
LOCATION:Main Hall
X-APPLE-STRUCTURED-LOCATION;VALUE=URI;X-ADDRESS=505 E Charleston Rd\, Palo 
 Alto\, CA\, 94306\, United States;X-APPLE-RADIUS=100;X-TITLE=Main Hall:geo
 :0,0
END:VEVENT
BEGIN:VTIMEZONE
TZID:America/Los_Angeles
X-LIC-LOCATION:America/Los_Angeles
BEGIN:DAYLIGHT
DTSTART:20250309T030000
TZOFFSETFROM:-0800
TZOFFSETTO:-0700
TZNAME:PDT
END:DAYLIGHT
END:VTIMEZONE
END:VCALENDAR