BEGIN:VCALENDAR
VERSION:2.0
PRODID:-//wp-events-plugin.com//7.2.2.1//EN
TZID:America/Los_Angeles
X-WR-TIMEZONE:America/Los_Angeles
BEGIN:VEVENT
UID:12281@uucpa.org
DTSTART;TZID=America/Los_Angeles:20230128T090000
DTEND;TZID=America/Los_Angeles:20230128T150000
DTSTAMP:20221231T163312Z
URL:https://www.uucpa.org/events/uucpa-blood-drive/
SUMMARY:UUCPA Blood Drive
DESCRIPTION:UUCPA Blood Drive  Come join us for the Blood Donation Olympics
  XX – the competitive game that saves lives!  This event is sponsored b
 y UUCPA and the American Red Cross.\n\n 	Location:  Main Hall\n 	Date:  
 Saturday\, January 28\n 	Donation Hours:  9:00 am – 3:00 pm (note: you 
 must check in by 2:45 pm)\n 	Prizes:  Estimate the time to donate a unit 
 of blood vs the actual time.  If you’re within 30 seconds – win a $20
  gift card.  If your estimate vs actual is within 10 seconds – win a $4
 0 gift card\n 	Eligibility:  If you have questions regarding your eligibi
 lity to donate blood or have traveled outside the U.S. in the past year\, 
 please call 1-866-236-3276.\n 	Online Registration: the site is now avail
 able to schedule an appointment: https://www.redcrossblood.org/give.html/
 drive-results?zipSponsor=OLYMPICS.\n 	Food/Drink:  Donors will have the o
 ption to order a cold sandwich\, salad or wrap from Togo’s: https://www
 .togos.com/menu/.\n\nRegular Donors:  The last date you can donate blood 
 and still participate is December 4th. 
ATTACH;FMTTYPE=image/jpeg:https://www.uucpa.org/wp-content/uploads/2022/12
 /Blood-Donation-Olympics-XXI.png
CATEGORIES:Justice Projects
LOCATION:Main Hall
X-APPLE-STRUCTURED-LOCATION;VALUE=URI;X-ADDRESS=505 E Charleston Rd\, Palo 
 Alto\, CA\, 94306\, United States;X-APPLE-RADIUS=100;X-TITLE=Main Hall:geo
 :0,0
END:VEVENT
BEGIN:VTIMEZONE
TZID:America/Los_Angeles
X-LIC-LOCATION:America/Los_Angeles
BEGIN:STANDARD
DTSTART:20221106T010000
TZOFFSETFROM:-0700
TZOFFSETTO:-0800
TZNAME:PST
END:STANDARD
END:VTIMEZONE
END:VCALENDAR