BEGIN:VCALENDAR
VERSION:2.0
PRODID:-//wp-events-plugin.com//7.2.2.1//EN
TZID:America/Los_Angeles
X-WR-TIMEZONE:America/Los_Angeles
BEGIN:VEVENT
UID:3206@uucpa.org
DTSTART;TZID=America/Los_Angeles:20180428T170000
DTEND;TZID=America/Los_Angeles:20180428T200000
DTSTAMP:20180325T000818Z
URL:https://www.uucpa.org/events/uucpa-church-community-dance/
SUMMARY:UUCPA All-Church Community Dance
DESCRIPTION:UUCPA All-Church Community Dance  \n\n\n\nIn the middle of spri
 ng busy-ness\, take a night to enjoy music\, dance\, and friendship!  On 
 Saturday April 28th\, UUCPA hosts its sixth annual All-Church Community 
 Dance.  We have live musicians playing traditional tunes.  A caller will
  lead us in group dances from several folk traditions.  No previous exp
 erience or partner is necessary.  Just follow along!\n\n\n\n\n\n\n\nWe wi
 ll have a free pizza and salad dinner starting at 5:00 (Potluck items are 
 most welcome\, but the basics are provided.)  Music and dancing runs fr
 om 6-8pm.  People also hang out in the court yard\, chat\, play some game
 s.  Child care will be provided\, but children are encouraged to attend a
 nd join the dancing.\n\nThis is always a fun night-- our only goal is enj
 oy each other's company and play around to the music.  Please come!\n\n\n
 We always need volunteers to make the fun happen.  Many hands make short 
 work.  Please sign up here:\n\nhttp://bit.ly/2FTpz2T\n\n 
CATEGORIES:Special Events
LOCATION:Main Hall
X-APPLE-STRUCTURED-LOCATION;VALUE=URI;X-ADDRESS=505 E Charleston Rd\, Palo 
 Alto\, CA\, 94306\, United States;X-APPLE-RADIUS=100;X-TITLE=Main Hall:geo
 :0,0
END:VEVENT
BEGIN:VTIMEZONE
TZID:America/Los_Angeles
X-LIC-LOCATION:America/Los_Angeles
BEGIN:DAYLIGHT
DTSTART:20180311T030000
TZOFFSETFROM:-0800
TZOFFSETTO:-0700
TZNAME:PDT
END:DAYLIGHT
END:VTIMEZONE
END:VCALENDAR