BEGIN:VCALENDAR
VERSION:2.0
PRODID:-//wp-events-plugin.com//7.2.2.1//EN
TZID:America/Los_Angeles
X-WR-TIMEZONE:America/Los_Angeles
BEGIN:VEVENT
UID:11536@uucpa.org
DTSTART;TZID=America/Los_Angeles:20230122T114500
DTEND;TZID=America/Los_Angeles:20230122T131500
DTSTAMP:20230121T185549Z
URL:https://www.uucpa.org/events/uucpa-class-next-step-after-overturning-r
 oe-fetal-personhood/
SUMMARY:UUCPA Class: Next Step After Overturning Roe:  Fetal Personhood? 
DESCRIPTION:UUCPA Class: Next Step After Overturning Roe:  Fetal Personhoo
 d?   We have postponed this class to 2023\n\nTime:  11:45 am\nLocation: 
 Fireside Room (in-person with zoom access possible.  Obtain the Zoom link
  by writing to areclasses@uucpa.org)\n\n\nTopic:  Next Step After Overtu
 rning Roe:  Fetal Personhood?\n\nDescription: Anti-abortion activists are
  pushing for laws that grant fetuses the same legal rights and protections
  as any person.  Such laws would mean that\, regardless of any abortion-s
 pecific legislation\, abortion would be considered an act of murder under 
 existing law – even where an abortion ban created exceptions for rape\, 
 maternal health\, or otherwise.  At the federal level\, fetal personhood 
 could transform the current\, post-Roe “leave it to the states” approa
 ch into a total ban on abortion.  Join us to learn about and discuss the 
 issues surrounding these efforts.\n\n\n\nFourth Sunday Waffles and snacks 
 will be available after the 10:15 am service. Suggested contribution $2. 
ATTACH;FMTTYPE=image/jpeg:https://www.uucpa.org/wp-content/uploads/2022/09
 /Next-Step-After-Overturning-Roe-Fetal-Personhood-1.png
CATEGORIES:Adult,Classes,Learning
LOCATION:Fireside Room
GEO:37.419574;-122.11249800000002
X-APPLE-STRUCTURED-LOCATION;VALUE=URI;X-ADDRESS=505 E Charleston Road\, Pal
 o Alto\, CA\, 94306\, United States;X-APPLE-RADIUS=100;X-TITLE=Fireside Ro
 om:geo:37.419574,-122.11249800000002
END:VEVENT
BEGIN:VTIMEZONE
TZID:America/Los_Angeles
X-LIC-LOCATION:America/Los_Angeles
BEGIN:STANDARD
DTSTART:20221106T010000
TZOFFSETFROM:-0700
TZOFFSETTO:-0800
TZNAME:PST
END:STANDARD
END:VTIMEZONE
END:VCALENDAR