BEGIN:VCALENDAR
VERSION:2.0
PRODID:-//wp-events-plugin.com//7.2.2.1//EN
TZID:America/Los_Angeles
X-WR-TIMEZONE:America/Los_Angeles
BEGIN:VEVENT
UID:12109@uucpa.org
DTSTART;TZID=America/Los_Angeles:20221030T123000
DTEND;TZID=America/Los_Angeles:20221030T140000
DTSTAMP:20221029T183919Z
URL:https://www.uucpa.org/events/uucpa-class-the-tale-of-two-counties-over
 sight-of-law-enforcement-after-george-floyds-death/
SUMMARY:UUCPA Class: The Tale of Two Counties: Oversight of Law Enforcement
  after George Floyd’s Death
DESCRIPTION:UUCPA Class: The Tale of Two Counties: Oversight of Law Enforce
 ment after George Floyd’s Death  UUCPA Class: The Tale of Two Counties: 
 Oversight of Law Enforcement after George Floyd’s Death\nSanta Clara Cou
 nty Board Supervisor Joe Simitian joins us for a life and death analysis o
 f the power our local law enforcement - in this case the Sheriff’s Offic
 e - holds in its hands. For over four years Joe has driven the effort to e
 stablish civilian oversight for the Sheriff’s Office - which does not re
 port to anyone in the County. The appalling incidents impacting real peopl
 e - the majority people of color living here - cried out for transparency 
 and accountability for that powerful office. San Mateo County residents fo
 rmed Fixin’ SMC last year and tapped Joe to advise them on how to build 
 their effective civilian oversight entity - that story is still unfolding.
  Entrenched power vs. humane values - the battle in our own back yards. Pl
 ease join us for insights locally and from around the country on what work
 s\, what clearly doesn’t\, and implications for the path forward.\n\n\n 
 	\nWhen: Sunday October 30th\, 12:30 to 2:00 p.m.\, Fireside Room and Zoom
 \n\n 	\nLocation: Fireside Room (in-person* with zoom access possible) - F
 or in-person attendance\, masks are required and people who have not alrea
 dy shown proof of vaccination to UUCPA will need to do so in order to ente
 r the Fireside Room.\n\n 	\nAmenities:  Light refreshments to enjoy with 
 your coffee/tea/mocha will be available before the class begins.\n\n 	\nZo
 om information: To receive a Zoom link for the class\, please send a reque
 st to areclasses@uucpa.org.\n\n 
ATTACH;FMTTYPE=image/jpeg:https://www.uucpa.org/wp-content/uploads/2022/10
 /UUCPA-Class-The-Tale-of-Two-Counties-Oversight-of-Law-Enforcement-after-G
 eorge-Floyds-Death-1.png
CATEGORIES:Adult,Classes,Learning
LOCATION:Fireside Room
GEO:37.419574;-122.11249800000002
X-APPLE-STRUCTURED-LOCATION;VALUE=URI;X-ADDRESS=505 E Charleston Road\, Pal
 o Alto\, CA\, 94306\, United States;X-APPLE-RADIUS=100;X-TITLE=Fireside Ro
 om:geo:37.419574,-122.11249800000002
END:VEVENT
BEGIN:VTIMEZONE
TZID:America/Los_Angeles
X-LIC-LOCATION:America/Los_Angeles
BEGIN:DAYLIGHT
DTSTART:20220313T030000
TZOFFSETFROM:-0800
TZOFFSETTO:-0700
TZNAME:PDT
END:DAYLIGHT
END:VTIMEZONE
END:VCALENDAR