BEGIN:VCALENDAR
VERSION:2.0
PRODID:-//wp-events-plugin.com//7.2.2.1//EN
TZID:America/Los_Angeles
X-WR-TIMEZONE:America/Los_Angeles
BEGIN:VEVENT
UID:11050@uucpa.org
DTSTART;TZID=America/Los_Angeles:20220703T103000
DTEND;TZID=America/Los_Angeles:20220703T113000
DTSTAMP:20220702T141954Z
URL:https://www.uucpa.org/events/uucpa-summer-sunday-school-gr-k-5-2022-07
 -03/
SUMMARY:Childcare Only - July 4th weekend
DESCRIPTION:Childcare Only - July 4th weekend  UUCPA Children’s Summer Su
 nday Schedule\n\nSunday Summer School is all about one of our official UUC
 PA CYRE goals – have fun and build community. \n\n 	We will check-in an
 d offer an activity planned for grades K-5 every Sunday. \n 	Supervised c
 hildcare on the playground is also available for preschool through grade 5
  – so choosing between the activity or the playground is an option every
  Sunday. \n 	Older preschoolers may enjoy some activities especially if a
  parent can assist them.\n\n&nbsp\;\n\n\n\nJune 5 \n9:30 \nSunday School
  with Dan and Cat\n\n\nJune 12\n9:30 \nCharades and Games\n\n\nJune 19\n1
 0:30 \nSummer Solstice Suncatchers\n\n\nJune 26\n10:30  \nHelp cut frui
 t and setup for waffles.\n\n\nJuly 3\n10:30\nJuly 4th weekend - Childcare 
 Only\n\n\nJuly 10\n10:30 \nRubber ducky campout – we will make them som
 e sleeping bags and tents.\n\n\nJuly 17\n10:30 \nField trip to Magical Br
 idge Playground – fill out a permission slip when you sign in.\n\n\nJuly
  24\n10:30  \nHelp cut fruit and setup for waffles.\n\n\nJuly 31\n10:30
   \nSet up and cook lunch. We will be outdoors with lots of adult helper
 s\, and lots of ways to help.\n\n\nAugust Sunday School will start at 9:30
  – Activities for August coming soon.\n\n\n\n&nbsp\; 
ATTACH;FMTTYPE=image/jpeg:https://www.uucpa.org/wp-content/uploads/2022/06
 /Summer-Sunday-School-2022-1.png
CATEGORIES:Children,Children &amp; Youth,Elementary,Learning,Sunday School
LOCATION:UUCPA
GEO:37.419574;-122.11249800000002
X-APPLE-STRUCTURED-LOCATION;VALUE=URI;X-ADDRESS=505 E Charleston Rd\, Palo 
 Alto\, CA\, 94306\, United States;X-APPLE-RADIUS=100;X-TITLE=UUCPA:geo:37.
 419574,-122.11249800000002
END:VEVENT
BEGIN:VTIMEZONE
TZID:America/Los_Angeles
X-LIC-LOCATION:America/Los_Angeles
BEGIN:DAYLIGHT
DTSTART:20220313T030000
TZOFFSETFROM:-0800
TZOFFSETTO:-0700
TZNAME:PDT
END:DAYLIGHT
END:VTIMEZONE
END:VCALENDAR