BEGIN:VCALENDAR
VERSION:2.0
PRODID:-//wp-events-plugin.com//7.2.2.1//EN
TZID:America/Los_Angeles
X-WR-TIMEZONE:America/Los_Angeles
BEGIN:VEVENT
UID:7846@uucpa.org
DTSTART;TZID=America/Los_Angeles:20200404T133000
DTEND;TZID=America/Los_Angeles:20200404T133000
DTSTAMP:20200314T184705Z
URL:https://www.uucpa.org/events/vote-forward-event/
SUMMARY:Vote Forward Letter-Writing Event - Canceled
DESCRIPTION:Vote Forward Letter-Writing Event - Canceled  The April 4\, Vot
 e Forward Letter-Writing Event has been canceled. \n\n\n\nWrite Letters t
 o Get Voters to the Polls in Key States.\n\nSending a Vote Forward letter 
 is one of the easiest things you can do to increase turnout in key states.
  It’s a concrete action you can take to get unlikely-to-vote fellow citi
 zens (from under-represented demographic groups) to the polls. We are tryi
 ng to reach 2 million infrequent voters in key states before November. Sin
 ce there are so many letters to do\, we are preparing the letters now\, st
 oring them\, and then mailing them in October.\n\nJoin us in the Main Hall
  to write letters.\n\nVote Forward is a 501(c)(4) nonprofit organization. 
 Our mission is to empower grassroots volunteers to help register voters fr
 om under-represented demographics and encourage them to vote. We build too
 ls to enable Americans\, wherever they may be\, to encourage fellow citize
 ns to participate in our democracy.\n\nFind more 2020 election events at U
 UCPA here. 
ATTACH;FMTTYPE=image/jpeg:https://www.uucpa.org/wp-content/uploads/2020/02
 /uu_the_vote_logo_v1_horizontal_152pxt_by_600px_rgb_300ppi.jpg
CATEGORIES:Justice,Justice Projects
END:VEVENT
BEGIN:VTIMEZONE
TZID:America/Los_Angeles
X-LIC-LOCATION:America/Los_Angeles
BEGIN:DAYLIGHT
DTSTART:20200308T030000
TZOFFSETFROM:-0800
TZOFFSETTO:-0700
TZNAME:PDT
END:DAYLIGHT
END:VTIMEZONE
END:VCALENDAR