BEGIN:VCALENDAR
VERSION:2.0
PRODID:-//wp-events-plugin.com//7.2.2.1//EN
TZID:America/Los_Angeles
X-WR-TIMEZONE:America/Los_Angeles
BEGIN:VEVENT
UID:10236@uucpa.org
DTSTART;TZID=America/Los_Angeles:20211014T180000
DTEND;TZID=America/Los_Angeles:20211014T191500
DTSTAMP:20211003T025933Z
URL:https://www.uucpa.org/events/welcome-to-taproot-a-monthly-gathering-fo
 r-bipoc-uus-2021-10-14/
SUMMARY:Taproot: A Monthly Gathering for BIPoC UUs
DESCRIPTION:Taproot: A Monthly Gathering for BIPoC UUs  Taproot is a space 
 for Unitarian Universalist congregants and leaders nationwide identifying 
 as Black\, Indigenous\, and People of Color. Its organizing pillars are Re
 st &amp\; Renewal\; Analysis Building\; and Leadership Development.\n\nReg
 ister now for any or all of the fall gatherings\, which take place on the 
 second Thursday of the month.\nFor more information\, contacts are: Tyler 
 Coles\, tcoles@uua.org\, Summer Albayati\, SAlbayati@uua.org\, Sana Saeed\
 , ssaeed@uua.org\, all of whom are BIPoC and staff of the Unitarian Univer
 salist Association. 
CATEGORIES:Non-UUCPA,Small Groups
END:VEVENT
BEGIN:VTIMEZONE
TZID:America/Los_Angeles
X-LIC-LOCATION:America/Los_Angeles
BEGIN:DAYLIGHT
DTSTART:20210314T030000
TZOFFSETFROM:-0800
TZOFFSETTO:-0700
TZNAME:PDT
END:DAYLIGHT
END:VTIMEZONE
END:VCALENDAR