BEGIN:VCALENDAR
VERSION:2.0
PRODID:-//wp-events-plugin.com//7.2.2.1//EN
TZID:America/Los_Angeles
X-WR-TIMEZONE:America/Los_Angeles
BEGIN:VEVENT
UID:16774@uucpa.org
DTSTART;TZID=America/Los_Angeles:20250507T130000
DTEND;TZID=America/Los_Angeles:20250507T143000
DTSTAMP:20250426T211458Z
URL:https://www.uucpa.org/events/what-to-do-if-ice-shows-up/
SUMMARY:What to do if ICE shows up...
DESCRIPTION:What to do if ICE shows up...  \n\n\nWhat to do if ICE shows up
  at your congregation\, place of worship\, non-profit business\, clinic\, 
 or private employer\nWednesday\, May 7\, 1-2:30pm\nCongregation Etz Chayim
 \n4161 Alma St.\, Palo Alto\n \nJoin us for this important presentation 
 by Community Legal Services of East Palo Alto (CLESPA).\n\nThe presentatio
 n will be geared towards staff and volunteers\, but all community members 
 are welcome.\n\nThere will be time for Q&amp\;A.\nHosted by Multifaith Voi
 ces for Peace and Congregation Etz Chayim.\nPlease RSVP using this Google 
 form.\n\n 
ATTACH;FMTTYPE=image/jpeg:https://www.uucpa.org/wp-content/uploads/2025/04
 /What-to-do-if-ICE-shows-up.png
CATEGORIES:Non-UUCPA,Offsite
LOCATION:Congregation Etz Chayim
GEO:37.411255;-122.111925
X-APPLE-STRUCTURED-LOCATION;VALUE=URI;X-ADDRESS=4161 Alma St\, Palo Alto\, 
 CA\, 94306\, United States;X-APPLE-RADIUS=100;X-TITLE=Congregation Etz Cha
 yim:geo:37.411255,-122.111925
END:VEVENT
BEGIN:VTIMEZONE
TZID:America/Los_Angeles
X-LIC-LOCATION:America/Los_Angeles
BEGIN:DAYLIGHT
DTSTART:20250309T030000
TZOFFSETFROM:-0800
TZOFFSETTO:-0700
TZNAME:PDT
END:DAYLIGHT
END:VTIMEZONE
END:VCALENDAR