BEGIN:VCALENDAR
VERSION:2.0
PRODID:-//wp-events-plugin.com//7.2.2.1//EN
TZID:America/Los_Angeles
X-WR-TIMEZONE:America/Los_Angeles
BEGIN:VEVENT
UID:14717@uucpa.org
DTSTART;TZID=America/Los_Angeles:20240621T120000
DTEND;TZID=America/Los_Angeles:20240621T130000
DTSTAMP:20240621T175659Z
URL:https://www.uucpa.org/events/what-to-say-to-a-friend-whos-depressed/
SUMMARY:What to Say to a Friend Who's Depressed
DESCRIPTION:What to Say to a Friend Who&#039\;s Depressed  \n\nPlease note 
 change in location\n\nIt's hard to help a depressed friend. You want to st
 ay connected in their time of need\, but they seem to be pushing you away.
  You usually want to affirm friends' feelings\, but what if they're saying
  things like "my life has no meaning" or "I'm useless"?!\n\nWhat can we do
  that will actually help? Come to this session\, online via this Zoom link
 \, and find out. We'll share our experiences of dealing with depression an
 d leave with some tools that work.\n\n&nbsp\;\n\nDrawing by Nick Galifiana
 kis for the Washington Post\n\n&nbsp\; 
CATEGORIES:Adult,Caring,Classes,Learning,Youth
END:VEVENT
BEGIN:VTIMEZONE
TZID:America/Los_Angeles
X-LIC-LOCATION:America/Los_Angeles
BEGIN:DAYLIGHT
DTSTART:20240310T030000
TZOFFSETFROM:-0800
TZOFFSETTO:-0700
TZNAME:PDT
END:DAYLIGHT
END:VTIMEZONE
END:VCALENDAR