BEGIN:VCALENDAR
VERSION:2.0
PRODID:-//wp-events-plugin.com//7.2.2.1//EN
TZID:America/Los_Angeles
X-WR-TIMEZONE:America/Los_Angeles
BEGIN:VEVENT
UID:8897@uucpa.org
DTSTART;TZID=America/Los_Angeles:20210223T191500
DTEND;TZID=America/Los_Angeles:20210223T204500
DTSTAMP:20210218T153720Z
URL:https://www.uucpa.org/events/white-folks-dismantling-white-supremacy-2
 -2021-02-23/
SUMMARY:White Folks Dismantling White Supremacy
DESCRIPTION:White Folks Dismantling White Supremacy  In this session we wil
 l listen to a brief interview with Layla Saad\, the author of a book calle
 d Me and White Supremacy.  After the interview we will discuss our react
 ions to what we heard\, then spend time talking about how we might bring s
 ome of what we are learning to the larger UUCPA congregation.\n\nCo-sponso
 red by the Action Council and the Adult Religious Education Committee\, th
 e Dismantling White Supremacy study/action group meets twice a month\, on 
 the second and fourth Tuesday evenings from 7:15 to 8:45 via Zoom. The sec
 ond-Tuesday sessions\, led by Rev. Amy Zucker Morgenstern\, are focused on
  the series "Seeing White" from the podcast Scene on Radio. The fourth-Tue
 sday sessions\, led by Kristi Iverson and Susan Owicki\, are focused on ac
 tion and reflection.\n\nWe are calling the group "White Folks . . . " beca
 use we recognize the need for white people to do much of the work of disma
 ntling white supremacy. It's also important to have anti-racism learning s
 paces for white folks\, where they can grapple with new ideas about racism
  and speak candidly about their fears and misconceptions. It can be painfu
 l for people of color to witness these conversations\, so we have created 
 this space apart from the main body of the congregation. That said\, all p
 eople of whatever race or background are welcome to attend any or all sess
 ions.\n\nIf you would like to participate\, please sign up to be on the cl
 ass email list by sending an email to DismantlingWhiteSupremacy+subscribe@
 uucpa.org. 
ATTACH;FMTTYPE=image/jpeg:https://www.uucpa.org/wp-content/uploads/2020/07
 /White-Folks-DISMANTLING-WHITE-SUPREMACY-1.png
CATEGORIES:Action Council,Adult,Classes,Learning
END:VEVENT
BEGIN:VTIMEZONE
TZID:America/Los_Angeles
X-LIC-LOCATION:America/Los_Angeles
BEGIN:STANDARD
DTSTART:20201101T010000
TZOFFSETFROM:-0700
TZOFFSETTO:-0800
TZNAME:PST
END:STANDARD
END:VTIMEZONE
END:VCALENDAR